BEGIN:VCALENDAR
VERSION:2.0
PRODID:-//dcadv.org//NONSGML kigkonsult.se iCalcreator 2.30.10//
CALSCALE:GREGORIAN
METHOD:PUBLISH
UID:9b0a6686-b4b7-400d-a11e-403c96f6c30e
X-WR-CALDESC:DCADV offers a semi-annual two-day Domestic Violence 101 (DV10
 1) Training.  DV101 is the Coalition’s signature training event and attrac
 ts a multidisciplinary audience from across the state.  Participants typic
 ally include domestic violence service providers\, nonprofit organizations
 \, law enforcement agencies\, and state employees working on issues rangin
 g from behavioral health services to human resources to the criminal justi
 ce system.  DV101 provides an overview of the dynamics and prevalence of d
 omestic violence\, and teaches participants effective advocacy skills that
  support safety and empowerment across systems.  Topics covered during the
  training include:\n\n- History & Culture of Domestic Violence\n- Dynamics
  of Abusive Relationships\n- Empowerment Advocacy\n- Risk Assessment\n- Sa
 fety Planning\n- Community Resources\n- Criminal Justice and Civil Justice
  Systems\n- Protection from Abuse Orders\n- Trauma-Informed Services\n- Pr
 evention & Social Change\n\nDates:\nWednesday\, March 14 and Thursday\, Ma
 rch 15\, 2018\n\nLocation: \nDelaware Technical Community College\, Terry 
 Campus\n100 Campus Drive\, Dover\, DE 19904\nCorporate Training Center\, R
 oom 400A\n\nTimes:\n8:30 a.m. - 9:00 a.m. Registration/Check In\n9:00 a.m.
  - 4:00 p.m. Workshop with breaks\n\n*Lunch will not be provided.  There w
 ill be a 75-minute break for lunch.  Participants may leave the training f
 acility to purchase a meal or bring a packed lunch.  \n\nRegistration Fees
 :\n$40.00 (both days)- Delaware Certified Domestic Violence Specialists\, 
 DCADV Member Organizations\, and Current DCADV Supporting Members\n$50.00 
 (both days)- Nonmembers\n\n*Single day registration is also available ($20
  for members/$25 for nonmembers).  However\, it is highly recommended that
  participants attend Day 1 before attending Day 2.\n\n<b>Registration is n
 ow closed.  Please contact training@dcadv.org to be added to our waiting l
 ist. </b>
X-WR-RELCALID:c8ac978d236e118b65b3f242a027ab7b
X-WR-TIMEZONE:America/New_York
BEGIN:VTIMEZONE
TZID:America/New_York
BEGIN:STANDARD
TZNAME:EST
DTSTART:20171105T020000
TZOFFSETFROM:-0400
TZOFFSETTO:-0500
RDATE:20181104T020000
END:STANDARD
BEGIN:DAYLIGHT
TZNAME:EDT
DTSTART:20180311T020000
TZOFFSETFROM:-0500
TZOFFSETTO:-0400
RDATE:20190310T020000
END:DAYLIGHT
END:VTIMEZONE
BEGIN:VEVENT
UID:5e70f73f-714e-40fb-9c13-b3f6a7b041ec
DTSTAMP:20260423T103100Z
DESCRIPTION:DCADV offers a semi-annual two-day Domestic Violence 101 (DV101
 ) Training.  DV101 is the Coalition’s signature training event and attract
 s a multidisciplinary audience from across the state.  Participants typica
 lly include domestic violence service providers\, nonprofit organizations\
 , law enforcement agencies\, and state employees working on issues ranging
  from behavioral health services to human resources to the criminal justic
 e system.  DV101 provides an overview of the dynamics and prevalence of do
 mestic violence\, and teaches participants effective advocacy skills that 
 support safety and empowerment across systems.  Topics covered during the 
 training include:\n\n- History & Culture of Domestic Violence\n- Dynamics 
 of Abusive Relationships\n- Empowerment Advocacy\n- Risk Assessment\n- Saf
 ety Planning\n- Community Resources\n- Criminal Justice and Civil Justice 
 Systems\n- Protection from Abuse Orders\n- Trauma-Informed Services\n- Pre
 vention & Social Change\n\nDates:\nWednesday\, March 14 and Thursday\, Mar
 ch 15\, 2018\n\nLocation: \nDelaware Technical Community College\, Terry C
 ampus\n100 Campus Drive\, Dover\, DE 19904\nCorporate Training Center\, Ro
 om 400A\n\nTimes:\n8:30 a.m. - 9:00 a.m. Registration/Check In\n9:00 a.m. 
 - 4:00 p.m. Workshop with breaks\n\n*Lunch will not be provided.  There wi
 ll be a 75-minute break for lunch.  Participants may leave the training fa
 cility to purchase a meal or bring a packed lunch.  \n\nRegistration Fees:
 \n$40.00 (both days)- Delaware Certified Domestic Violence Specialists\, D
 CADV Member Organizations\, and Current DCADV Supporting Members\n$50.00 (
 both days)- Nonmembers\n\n*Single day registration is also available ($20 
 for members/$25 for nonmembers).  However\, it is highly recommended that 
 participants attend Day 1 before attending Day 2.\n\n<b>Registration is no
 w closed.  Please contact training@dcadv.org to be added to our waiting li
 st. </b>
DTSTART;TZID=America/New_York:20180314T000000
DTEND;TZID=America/New_York:20180315T235900
LOCATION:Delaware Technical Community College\, Dover\, DE
SUMMARY:Domestic Violence 101 Training
END:VEVENT
END:VCALENDAR
