BEGIN:VCALENDAR
VERSION:2.0
PRODID:-//dcadv.org//NONSGML kigkonsult.se iCalcreator 2.30.10//
CALSCALE:GREGORIAN
METHOD:PUBLISH
UID:afc00900-1bb7-4749-90f4-f57a8f8100f5
X-WR-CALDESC:DCADV\, the Domestic Violence Task Force\, and the Victims' Ri
 ghts Task Force will join together to advocate at Legislative Hall for iss
 ues related to domestic and sexual violence.
X-WR-RELCALID:5202f36d0c1427ed291ee295ca2f1a42
X-WR-TIMEZONE:America/New_York
BEGIN:VTIMEZONE
TZID:America/New_York
BEGIN:STANDARD
TZNAME:EST
DTSTART:20171105T020000
TZOFFSETFROM:-0400
TZOFFSETTO:-0500
RDATE:20181104T020000
END:STANDARD
BEGIN:DAYLIGHT
TZNAME:EDT
DTSTART:20180311T020000
TZOFFSETFROM:-0500
TZOFFSETTO:-0400
RDATE:20190310T020000
END:DAYLIGHT
END:VTIMEZONE
BEGIN:VEVENT
UID:8a05fd23-7957-48a4-81f1-1982121c2c55
DTSTAMP:20260423T102927Z
DESCRIPTION:DCADV\, the Domestic Violence Task Force\, and the Victims' Rig
 hts Task Force will join together to advocate at Legislative Hall for issu
 es related to domestic and sexual violence.
DTSTART;TZID=America/New_York:20180328T100000
DTEND;TZID=America/New_York:20180328T150000
LOCATION:Legislative Hall
SUMMARY:Joint Task Force Advocacy Day
END:VEVENT
END:VCALENDAR
