BEGIN:VCALENDAR
VERSION:2.0
PRODID:-//dcadv.org//NONSGML kigkonsult.se iCalcreator 2.30.10//
CALSCALE:GREGORIAN
METHOD:PUBLISH
UID:6fdf8d3b-ea4f-4444-810d-c6284a1f9879
X-WR-CALDESC:DCADV's office will be closed on Friday\, March 30\, 2018 in o
 bservance of Good Friday.
X-WR-RELCALID:c93fd47443f3bec9b3c126ecb68e6e97
X-WR-TIMEZONE:America/New_York
BEGIN:VTIMEZONE
TZID:America/New_York
BEGIN:STANDARD
TZNAME:EST
DTSTART:20171105T020000
TZOFFSETFROM:-0400
TZOFFSETTO:-0500
RDATE:20181104T020000
END:STANDARD
BEGIN:DAYLIGHT
TZNAME:EDT
DTSTART:20180311T020000
TZOFFSETFROM:-0500
TZOFFSETTO:-0400
RDATE:20190310T020000
END:DAYLIGHT
END:VTIMEZONE
BEGIN:VEVENT
UID:0c072fb1-42b5-4bba-8a87-ccc90ca50653
DTSTAMP:20260423T103012Z
DESCRIPTION:DCADV's office will be closed on Friday\, March 30\, 2018 in ob
 servance of Good Friday.
DTSTART;TZID=America/New_York:20180330T000000
DTEND;TZID=America/New_York:20180330T235900
LOCATION:
SUMMARY:DCADV office closed
END:VEVENT
END:VCALENDAR
