BEGIN:VCALENDAR
VERSION:2.0
PRODID:-//dcadv.org//NONSGML kigkonsult.se iCalcreator 2.30.10//
CALSCALE:GREGORIAN
METHOD:PUBLISH
UID:caeae9b5-6595-42d4-9541-5cac8fd524bc
X-WR-CALDESC:In recognition of this year’s Crime Victims’ Rights Week\, the
  DE Victims' Rights Task Force (VRTF) is sponsoring two creative writing w
 orkshops for survivors of crime. These workshops will be led by Tahira (ht
 tp://www.tahiraproductions.com)\, a popular and inspirational artist and s
 toryteller. Tahira's instructional presentation uses the art of storytelli
 ng to address issues faced by crime victims.\n\nParticipants must be at le
 ast 18 or older to register.  Participant space is limited and will likely
  fill quickly. So don't delay.
X-WR-RELCALID:185680ef2b8b46b0924a125eb718000c
X-WR-TIMEZONE:America/New_York
BEGIN:VTIMEZONE
TZID:America/New_York
BEGIN:STANDARD
TZNAME:EST
DTSTART:20171105T020000
TZOFFSETFROM:-0400
TZOFFSETTO:-0500
RDATE:20181104T020000
END:STANDARD
BEGIN:DAYLIGHT
TZNAME:EDT
DTSTART:20180311T020000
TZOFFSETFROM:-0500
TZOFFSETTO:-0400
RDATE:20190310T020000
END:DAYLIGHT
END:VTIMEZONE
BEGIN:VEVENT
UID:38cae3d6-edc4-40b7-ba7b-e64b7c99258a
DTSTAMP:20260423T085141Z
DESCRIPTION:In recognition of this year’s Crime Victims’ Rights Week\, the 
 DE Victims' Rights Task Force (VRTF) is sponsoring two creative writing wo
 rkshops for survivors of crime. These workshops will be led by Tahira (htt
 p://www.tahiraproductions.com)\, a popular and inspirational artist and st
 oryteller. Tahira's instructional presentation uses the art of storytellin
 g to address issues faced by crime victims.\n\nParticipants must be at lea
 st 18 or older to register.  Participant space is limited and will likely 
 fill quickly. So don't delay.
DTSTART;TZID=America/New_York:20180405T180000
DTEND;TZID=America/New_York:20180405T200000
LOCATION:Dover Public Library
SUMMARY:Creative Writing Workshops for Survivors of Crime (Dover)
END:VEVENT
END:VCALENDAR
