BEGIN:VCALENDAR
VERSION:2.0
PRODID:-//dcadv.org//NONSGML kigkonsult.se iCalcreator 2.30.10//
CALSCALE:GREGORIAN
METHOD:PUBLISH
UID:c17d5e31-c35b-415e-8be3-c50bf3de0564
X-WR-CALDESC:Governor John Carney will recognize April 8-14\, 2018 as Crime
  Victims' Rights Week\,
X-WR-RELCALID:2981eef7d0fcc417f8880fe45ae923e1
X-WR-TIMEZONE:America/New_York
BEGIN:VTIMEZONE
TZID:America/New_York
BEGIN:STANDARD
TZNAME:EST
DTSTART:20171105T020000
TZOFFSETFROM:-0400
TZOFFSETTO:-0500
RDATE:20181104T020000
END:STANDARD
BEGIN:DAYLIGHT
TZNAME:EDT
DTSTART:20180311T020000
TZOFFSETFROM:-0500
TZOFFSETTO:-0400
RDATE:20190310T020000
END:DAYLIGHT
END:VTIMEZONE
BEGIN:VEVENT
UID:3ba1df5a-0c4e-40c3-8883-701183847e78
DTSTAMP:20260423T085638Z
DESCRIPTION:Governor John Carney will recognize April 8-14\, 2018 as Crime 
 Victims' Rights Week\,
DTSTART;TZID=America/New_York:20180410T103000
DTEND;TZID=America/New_York:20180410T113000
LOCATION:Governor's Office\, Wilmington
SUMMARY:Crime Victims' Rights Week Proclamation
END:VEVENT
END:VCALENDAR
