BEGIN:VCALENDAR
VERSION:2.0
PRODID:-//dcadv.org//NONSGML kigkonsult.se iCalcreator 2.30.10//
CALSCALE:GREGORIAN
METHOD:PUBLISH
UID:aa3ec627-1f3d-43d1-88c0-450dd3f487ba
X-WR-CALDESC:Governor John Carney will recognize April as Sexual Assault Aw
 areness Month.
X-WR-RELCALID:b490e3a05b325c168ac8fd409a16c646
X-WR-TIMEZONE:America/New_York
BEGIN:VTIMEZONE
TZID:America/New_York
BEGIN:STANDARD
TZNAME:EST
DTSTART:20171105T020000
TZOFFSETFROM:-0400
TZOFFSETTO:-0500
RDATE:20181104T020000
END:STANDARD
BEGIN:DAYLIGHT
TZNAME:EDT
DTSTART:20180311T020000
TZOFFSETFROM:-0500
TZOFFSETTO:-0400
RDATE:20190310T020000
END:DAYLIGHT
END:VTIMEZONE
BEGIN:VEVENT
UID:9678e245-39a6-4b14-8617-fd392dd9c5f5
DTSTAMP:20260423T090015Z
DESCRIPTION:Governor John Carney will recognize April as Sexual Assault Awa
 reness Month.
DTSTART;TZID=America/New_York:20180410T113000
DTEND;TZID=America/New_York:20180410T120000
LOCATION:
SUMMARY:Sexual Assault Awareness Month Proclamation
END:VEVENT
END:VCALENDAR
