BEGIN:VCALENDAR
VERSION:2.0
PRODID:-//dcadv.org//NONSGML kigkonsult.se iCalcreator 2.30.10//
CALSCALE:GREGORIAN
METHOD:PUBLISH
UID:2b9fd035-e363-4d57-8680-3af34e13b862
X-WR-CALDESC:Delaware Center for Justice\, with support of the Delaware Vic
 tims' Rights Task Force\, presents the 27th Annual Crime Victims' Rights T
 ribute and Candlelight Vigil.\n\nFree and open to the public.  Doors open 
 at 5:30 p.m. for local resource tables and displays.  Event starts promptl
 y at 6:30 p.m.  Light refreshments will be served\, courtesy of VCAP.\n\nT
 his project is supported by a National Crime Victims' Rights Week Communit
 y Awareness Project subgrant awarded by the National Association of VOCA A
 ssistance Administrators under a Victims of Crime Act (VOCA) grant from th
 e Office for Victims of Crime\, Office of Justice Programs\, U.S. Departme
 nt of Justice.  For more information\, follow Delaware Victims' Rights Tas
 k Force on Facebook\, or call 1-800-VICTIM-1.
X-WR-RELCALID:5e76aaa3addfea70f00f52cb035265ce
X-WR-TIMEZONE:America/New_York
BEGIN:VTIMEZONE
TZID:America/New_York
BEGIN:STANDARD
TZNAME:EST
DTSTART:20171105T020000
TZOFFSETFROM:-0400
TZOFFSETTO:-0500
RDATE:20181104T020000
END:STANDARD
BEGIN:DAYLIGHT
TZNAME:EDT
DTSTART:20180311T020000
TZOFFSETFROM:-0500
TZOFFSETTO:-0400
RDATE:20190310T020000
END:DAYLIGHT
END:VTIMEZONE
BEGIN:VEVENT
UID:ee311e53-fcea-4bbe-aea5-4eb19be5bbb8
DTSTAMP:20260423T102927Z
DESCRIPTION:Delaware Center for Justice\, with support of the Delaware Vict
 ims' Rights Task Force\, presents the 27th Annual Crime Victims' Rights Tr
 ibute and Candlelight Vigil.\n\nFree and open to the public.  Doors open a
 t 5:30 p.m. for local resource tables and displays.  Event starts promptly
  at 6:30 p.m.  Light refreshments will be served\, courtesy of VCAP.\n\nTh
 is project is supported by a National Crime Victims' Rights Week Community
  Awareness Project subgrant awarded by the National Association of VOCA As
 sistance Administrators under a Victims of Crime Act (VOCA) grant from the
  Office for Victims of Crime\, Office of Justice Programs\, U.S. Departmen
 t of Justice.  For more information\, follow Delaware Victims' Rights Task
  Force on Facebook\, or call 1-800-VICTIM-1.
DTSTART;TZID=America/New_York:20180412T173000
DTEND;TZID=America/New_York:20180412T193000
LOCATION:The Outlook at the Duncan Center\, Dover\, DE
SUMMARY:27th Annual Crime Victims' Rights Tribute and Candlelight Vigil
END:VEVENT
END:VCALENDAR
