BEGIN:VCALENDAR
VERSION:2.0
PRODID:-//dcadv.org//NONSGML kigkonsult.se iCalcreator 2.30.10//
CALSCALE:GREGORIAN
METHOD:PUBLISH
UID:7fed4c3f-fdff-40b3-b934-c1e26dc5fe43
X-WR-CALDESC:Join us May 7-8\, 2018 as we return to Rehoboth Beach\, DE\, f
 or DCADV's 20th Advocates' Retreat and Conference!\n\n4/16/18: We have rea
 ched our capacity for this event.  If you are interested in attending\, pl
 ease sign up for the waiting list.  DCADV will notify you to complete the 
 registration process if and when space becomes available.\n\n
X-WR-RELCALID:067f41f541b4eefe4cb40dd084e873aa
X-WR-TIMEZONE:America/New_York
BEGIN:VTIMEZONE
TZID:America/New_York
BEGIN:STANDARD
TZNAME:EST
DTSTART:20171105T020000
TZOFFSETFROM:-0400
TZOFFSETTO:-0500
RDATE:20181104T020000
RDATE:20191103T020000
END:STANDARD
BEGIN:DAYLIGHT
TZNAME:EDT
DTSTART:20180311T020000
TZOFFSETFROM:-0500
TZOFFSETTO:-0400
RDATE:20190310T020000
END:DAYLIGHT
END:VTIMEZONE
BEGIN:VEVENT
UID:043b67b1-90b0-4c04-b38e-09893ec0a4e4
DTSTAMP:20260423T070802Z
DESCRIPTION:Join us May 7-8\, 2018 as we return to Rehoboth Beach\, DE\, fo
 r DCADV's 20th Advocates' Retreat and Conference!\n\n4/16/18: We have reac
 hed our capacity for this event.  If you are interested in attending\, ple
 ase sign up for the waiting list.  DCADV will notify you to complete the r
 egistration process if and when space becomes available.\n\n
DTSTART;TZID=America/New_York:20180507T000000
DTEND;TZID=America/New_York:20180508T235900
LOCATION:Atlantic Sands Hotel and Conference Center\, Rehoboth Beach\, DE
SUMMARY:DCADV 20th Advocates' Retreat and Conference
END:VEVENT
END:VCALENDAR
