BEGIN:VCALENDAR
VERSION:2.0
PRODID:-//dcadv.org//NONSGML kigkonsult.se iCalcreator 2.30.10//
CALSCALE:GREGORIAN
METHOD:PUBLISH
UID:d1003994-eb73-49d3-8600-df79aba57392
X-WR-CALDESC:DCADV has notified all scheduled workshop presenters.  Approve
 d presenters for this years' Retreat and Conference may register through t
 his link.
X-WR-RELCALID:53cbaab20a227e1f564e70354a463eb0
X-WR-TIMEZONE:America/New_York
BEGIN:VTIMEZONE
TZID:America/New_York
BEGIN:STANDARD
TZNAME:EST
DTSTART:20171105T020000
TZOFFSETFROM:-0400
TZOFFSETTO:-0500
RDATE:20181104T020000
RDATE:20191103T020000
END:STANDARD
BEGIN:DAYLIGHT
TZNAME:EDT
DTSTART:20180311T020000
TZOFFSETFROM:-0500
TZOFFSETTO:-0400
RDATE:20190310T020000
END:DAYLIGHT
END:VTIMEZONE
BEGIN:VEVENT
UID:42f56acb-226d-4765-ac94-634b17fb88af
DTSTAMP:20260423T070802Z
DESCRIPTION:DCADV has notified all scheduled workshop presenters.  Approved
  presenters for this years' Retreat and Conference may register through th
 is link.
DTSTART;TZID=America/New_York:20180507T000000
DTEND;TZID=America/New_York:20180508T235900
LOCATION:Atlantic Sands Hotel and Conference Center
SUMMARY:Presenter Registration for Advocates' Retreat and Conference
END:VEVENT
END:VCALENDAR
