BEGIN:VCALENDAR
VERSION:2.0
PRODID:-//dcadv.org//NONSGML kigkonsult.se iCalcreator 2.30.10//
CALSCALE:GREGORIAN
METHOD:PUBLISH
UID:1685b63f-ce06-428e-b004-f0ddc1666288
X-WR-CALDESC:DCADV's office will be closed Monday\, May 28\, 2018 in observ
 ance of Memorial Day.
X-WR-RELCALID:1b7ca22eeca9fb7d6d8a34fc7d0e5f9f
X-WR-TIMEZONE:America/New_York
BEGIN:VTIMEZONE
TZID:America/New_York
BEGIN:STANDARD
TZNAME:EST
DTSTART:20171105T020000
TZOFFSETFROM:-0400
TZOFFSETTO:-0500
RDATE:20181104T020000
RDATE:20191103T020000
END:STANDARD
BEGIN:DAYLIGHT
TZNAME:EDT
DTSTART:20180311T020000
TZOFFSETFROM:-0500
TZOFFSETTO:-0400
RDATE:20190310T020000
END:DAYLIGHT
END:VTIMEZONE
BEGIN:VEVENT
UID:993b8c12-7ef4-4d45-9aac-8480e9475ac1
DTSTAMP:20260423T071414Z
DESCRIPTION:DCADV's office will be closed Monday\, May 28\, 2018 in observa
 nce of Memorial Day.
DTSTART;TZID=America/New_York:20180528T000000
DTEND;TZID=America/New_York:20180528T235900
LOCATION:
SUMMARY:DCADV Office Closed
END:VEVENT
END:VCALENDAR
