BEGIN:VCALENDAR
VERSION:2.0
PRODID:-//dcadv.org//NONSGML kigkonsult.se iCalcreator 2.30.10//
CALSCALE:GREGORIAN
METHOD:PUBLISH
UID:8c5bd3e3-6311-496c-8d03-ae823d6b8539
X-WR-CALDESC:
X-WR-RELCALID:400459f5195b4eb0497016f071c1c5d6
X-WR-TIMEZONE:America/New_York
BEGIN:VTIMEZONE
TZID:America/New_York
BEGIN:STANDARD
TZNAME:EST
DTSTART:20171105T020000
TZOFFSETFROM:-0400
TZOFFSETTO:-0500
RDATE:20181104T020000
RDATE:20191103T020000
END:STANDARD
BEGIN:DAYLIGHT
TZNAME:EDT
DTSTART:20180311T020000
TZOFFSETFROM:-0500
TZOFFSETTO:-0400
RDATE:20190310T020000
END:DAYLIGHT
END:VTIMEZONE
BEGIN:VEVENT
UID:bda5555d-3af9-4b65-9cba-f2fd2ba10e26
DTSTAMP:20260423T005607Z
DESCRIPTION:
DTSTART;TZID=America/New_York:20180903T000000
DTEND;TZID=America/New_York:20180903T235900
LOCATION:
SUMMARY:DCADV Office Closed
END:VEVENT
END:VCALENDAR
