BEGIN:VCALENDAR
VERSION:2.0
PRODID:-//dcadv.org//NONSGML kigkonsult.se iCalcreator 2.30.10//
CALSCALE:GREGORIAN
METHOD:PUBLISH
UID:df836296-236d-4a93-8a0c-5e39df41d0c5
X-WR-CALDESC:Join us for our upcoming conference 'Serving LGBTQ+ Survivors 
 of DV: Moving Beyond the Binary\,' featuring keynote speaker Sarah McBride
  of the Human Rights Campaign.\n\nThis conference is geared toward those p
 roviding direct services in the community.  Space is limited.  \n\n4 Conti
 nuing Education Units (CEUs) for social workers will be provided.\n\n
X-WR-RELCALID:8122bd42a1294b7cc91da22752f4d4b1
X-WR-TIMEZONE:America/New_York
BEGIN:VTIMEZONE
TZID:America/New_York
BEGIN:STANDARD
TZNAME:EST
DTSTART:20171105T020000
TZOFFSETFROM:-0400
TZOFFSETTO:-0500
RDATE:20181104T020000
RDATE:20191103T020000
END:STANDARD
BEGIN:DAYLIGHT
TZNAME:EDT
DTSTART:20180311T020000
TZOFFSETFROM:-0500
TZOFFSETTO:-0400
RDATE:20190310T020000
RDATE:20200308T020000
END:DAYLIGHT
END:VTIMEZONE
BEGIN:VEVENT
UID:5fbd6a86-2308-49fc-b52d-645224fdd071
DTSTAMP:20260423T005108Z
DESCRIPTION:Join us for our upcoming conference 'Serving LGBTQ+ Survivors o
 f DV: Moving Beyond the Binary\,' featuring keynote speaker Sarah McBride 
 of the Human Rights Campaign.\n\nThis conference is geared toward those pr
 oviding direct services in the community.  Space is limited.  \n\n4 Contin
 uing Education Units (CEUs) for social workers will be provided.\n\n
DTSTART;TZID=America/New_York:20180913T090000
DTEND;TZID=America/New_York:20180913T160000
LOCATION:Delaware Technical and Community College\, Dover\, DE
SUMMARY:Serving LGBTQ+ Survivors of DV: Moving Beyond the Binary
END:VEVENT
END:VCALENDAR
