BEGIN:VCALENDAR
VERSION:2.0
PRODID:-//dcadv.org//NONSGML kigkonsult.se iCalcreator 2.30.10//
CALSCALE:GREGORIAN
METHOD:PUBLISH
UID:7c5135e7-c43c-4e20-a9eb-14d46ffa3a20
X-WR-CALDESC:Have you ever wondered if the advocacy you engage in crosses a
 ny legal boundaries? Join us for a webinar on September 17 from 1:00 - 2:1
 5 p.m.\, where we will use an empowerment advocacy framework and explore h
 ow advocates can help survivors of domestic violence without engaging in t
 he unauthorized practice of law.\n\nPresenters:\nSue Ryan\, Executive Dire
 ctor\, DCADV\nZainab Shah\, Training Specialist\, DCADV\n\nThe webinar wil
 l recorded and posted on our website.  If you would like to receive notifi
 cation when the recording is available\, please register for the webinar (
 even if you are unable to attend).
X-WR-RELCALID:d0077e5dd96282c22beda89f7da4fd44
X-WR-TIMEZONE:America/New_York
BEGIN:VTIMEZONE
TZID:America/New_York
BEGIN:STANDARD
TZNAME:EST
DTSTART:20171105T020000
TZOFFSETFROM:-0400
TZOFFSETTO:-0500
RDATE:20181104T020000
RDATE:20191103T020000
END:STANDARD
BEGIN:DAYLIGHT
TZNAME:EDT
DTSTART:20180311T020000
TZOFFSETFROM:-0500
TZOFFSETTO:-0400
RDATE:20190310T020000
RDATE:20200308T020000
END:DAYLIGHT
END:VTIMEZONE
BEGIN:VEVENT
UID:9029b470-a234-4747-9664-047182963e3f
DTSTAMP:20260423T004825Z
DESCRIPTION:Have you ever wondered if the advocacy you engage in crosses an
 y legal boundaries? Join us for a webinar on September 17 from 1:00 - 2:15
  p.m.\, where we will use an empowerment advocacy framework and explore ho
 w advocates can help survivors of domestic violence without engaging in th
 e unauthorized practice of law.\n\nPresenters:\nSue Ryan\, Executive Direc
 tor\, DCADV\nZainab Shah\, Training Specialist\, DCADV\n\nThe webinar will
  recorded and posted on our website.  If you would like to receive notific
 ation when the recording is available\, please register for the webinar (e
 ven if you are unable to attend).
DTSTART;TZID=America/New_York:20180917T130000
DTEND;TZID=America/New_York:20180917T141500
LOCATION:Webinar
SUMMARY:Webinar: Empowerment Advocacy and Unauthorized Practice of Law
END:VEVENT
END:VCALENDAR
