BEGIN:VCALENDAR
VERSION:2.0
PRODID:-//dcadv.org//NONSGML kigkonsult.se iCalcreator 2.30.10//
CALSCALE:GREGORIAN
METHOD:PUBLISH
UID:9976af68-04ba-42af-bdde-cdd7950b7f89
X-WR-CALDESC:DCADV offers a semi-annual two-day Domestic Violence 101 (DV10
 1) Training.  DV101 is the Coalition’s signature training event and attrac
 ts a multidisciplinary audience from across the state.  Participants typic
 ally include domestic violence service providers\, nonprofit organizations
 \, law enforcement agencies\, and state employees working on issues rangin
 g from behavioral health services to human resources to the criminal justi
 ce system.  DV101 provides an overview of the dynamics and prevalence of d
 omestic violence\, and teaches participants effective advocacy skills that
  support safety and empowerment across systems.  Topics covered during the
  training include:\n\n- History & Culture of Domestic Violence\n- Dynamics
  of Abusive Relationships\n- Empowerment Advocacy\n- Risk Assessment\n- Sa
 fety Planning\n- Community Resources\n- Criminal Justice and Civil Justice
  Systems\n- Protection from Abuse Orders\n- Trauma-Informed Services\n- Pr
 evention & Social Change\n\nDates:\nWednesday\, September 19 and Thursday\
 , September 20\, 2018\n\nLocation: \nDelaware Technical and Community Coll
 ege\, Terry Campus\n100 Campus Drive\, Dover\, DE 19904\nCorporate Trainin
 g Center\, Room 400A\n\nTimes:\n8:30 a.m. - 9:00 a.m. Registration/Check I
 n\n9:00 a.m. - 4:00 p.m. Workshop with breaks\n\n*Lunch will not be provid
 ed.  There will be a 75-minute break for lunch.  Participants may leave th
 e training facility to purchase a meal or bring a packed lunch.  \n\nRegis
 tration Fees:\n$40.00 (both days)- Delaware Certified Domestic Violence Sp
 ecialists\, DCADV Member Organizations\, and Current DCADV Supporting Memb
 ers\n$50.00 (both days)- Nonmembers\n\n*Single day registration is also av
 ailable ($20 for members/$25 for nonmembers).  However\, it is highly reco
 mmended that participants attend Day 1 before attending Day 2.\n\n<b>CEUs 
 are not available at this time.</b>
X-WR-RELCALID:20a430d810a57f26743b66b9c5f8a858
X-WR-TIMEZONE:America/New_York
BEGIN:VTIMEZONE
TZID:America/New_York
BEGIN:STANDARD
TZNAME:EST
DTSTART:20171105T020000
TZOFFSETFROM:-0400
TZOFFSETTO:-0500
RDATE:20181104T020000
RDATE:20191103T020000
END:STANDARD
BEGIN:DAYLIGHT
TZNAME:EDT
DTSTART:20180311T020000
TZOFFSETFROM:-0500
TZOFFSETTO:-0400
RDATE:20190310T020000
RDATE:20200308T020000
END:DAYLIGHT
END:VTIMEZONE
BEGIN:VEVENT
UID:b06586fd-7172-4633-af39-097a57c912d7
DTSTAMP:20260423T023814Z
DESCRIPTION:DCADV offers a semi-annual two-day Domestic Violence 101 (DV101
 ) Training.  DV101 is the Coalition’s signature training event and attract
 s a multidisciplinary audience from across the state.  Participants typica
 lly include domestic violence service providers\, nonprofit organizations\
 , law enforcement agencies\, and state employees working on issues ranging
  from behavioral health services to human resources to the criminal justic
 e system.  DV101 provides an overview of the dynamics and prevalence of do
 mestic violence\, and teaches participants effective advocacy skills that 
 support safety and empowerment across systems.  Topics covered during the 
 training include:\n\n- History & Culture of Domestic Violence\n- Dynamics 
 of Abusive Relationships\n- Empowerment Advocacy\n- Risk Assessment\n- Saf
 ety Planning\n- Community Resources\n- Criminal Justice and Civil Justice 
 Systems\n- Protection from Abuse Orders\n- Trauma-Informed Services\n- Pre
 vention & Social Change\n\nDates:\nWednesday\, September 19 and Thursday\,
  September 20\, 2018\n\nLocation: \nDelaware Technical and Community Colle
 ge\, Terry Campus\n100 Campus Drive\, Dover\, DE 19904\nCorporate Training
  Center\, Room 400A\n\nTimes:\n8:30 a.m. - 9:00 a.m. Registration/Check In
 \n9:00 a.m. - 4:00 p.m. Workshop with breaks\n\n*Lunch will not be provide
 d.  There will be a 75-minute break for lunch.  Participants may leave the
  training facility to purchase a meal or bring a packed lunch.  \n\nRegist
 ration Fees:\n$40.00 (both days)- Delaware Certified Domestic Violence Spe
 cialists\, DCADV Member Organizations\, and Current DCADV Supporting Membe
 rs\n$50.00 (both days)- Nonmembers\n\n*Single day registration is also ava
 ilable ($20 for members/$25 for nonmembers).  However\, it is highly recom
 mended that participants attend Day 1 before attending Day 2.\n\n<b>CEUs a
 re not available at this time.</b>
DTSTART;TZID=America/New_York:20180919T000000
DTEND;TZID=America/New_York:20180920T235900
LOCATION:Delaware Technical and Community College\, Dover\, DE
SUMMARY:Domestic Violence 101 Training
END:VEVENT
END:VCALENDAR
