BEGIN:VCALENDAR
VERSION:2.0
PRODID:-//dcadv.org//NONSGML kigkonsult.se iCalcreator 2.30.10//
CALSCALE:GREGORIAN
METHOD:PUBLISH
UID:9a9f9071-bcf0-4544-b482-b223d2cca4d9
X-WR-CALDESC:The Purple Ribbon event is DCADV's annual awareness event held
  each October during National Domestic Violence Awareness Month.  Members 
 from our community\, survivors\, service providers\, advocates and friends
  gather to celebrate our partnership and shared work to prevent and end do
 mestic violence and to honor Vision of Peace and Spirit of Advocacy Awarde
 es.\n\n<b>Online ticket sales will end at 10:00 AM on Thursday\, October 4
 .  Tickets will be available at the door.</b>\n\n<b>Ticket Prices:</b>\n<b
 >DCADV Members:</b> $45.00\n<b>General Public:</b> $60.00\n<b>New Membersh
 ip Package:</b> $100.00\n<i>*Not a member of DCADV?  Purchase a New Member
 ship Package to receive one ticket to the Purple Ribbon Event and a one-ye
 ar individual membership.</i>\n<b>Membership Renewal Package:</b> $90.00\n
 <i>Already a member of DCADV?  Renew your membership now and save!  Receiv
 e one ticket to the Purple Ribbon Event and add a year onto your existing 
 individual membership.</i>\n\nNot sure if you're a member?  <a href='https
 ://dcadv.org/who-we-are/members/current-members.html/'>Click here to view 
 our current member listing.</a>\n\nOther levels of giving are available.  
 Please visit our <a href='https://dcadv.org/what-we-do/awareness-collabora
 tion/pre-sponsorship.html/'>Sponsorship</a> page for more information!
X-WR-RELCALID:c25b29d69128dc49383187774f6a6dbc
X-WR-TIMEZONE:America/New_York
BEGIN:VTIMEZONE
TZID:America/New_York
BEGIN:STANDARD
TZNAME:EST
DTSTART:20171105T020000
TZOFFSETFROM:-0400
TZOFFSETTO:-0500
RDATE:20181104T020000
RDATE:20191103T020000
END:STANDARD
BEGIN:DAYLIGHT
TZNAME:EDT
DTSTART:20180311T020000
TZOFFSETFROM:-0500
TZOFFSETTO:-0400
RDATE:20190310T020000
RDATE:20200308T020000
END:DAYLIGHT
END:VTIMEZONE
BEGIN:VEVENT
UID:96c6c716-6166-4f8f-bf33-02eda1287fd1
DTSTAMP:20260422T225956Z
DESCRIPTION:The Purple Ribbon event is DCADV's annual awareness event held 
 each October during National Domestic Violence Awareness Month.  Members f
 rom our community\, survivors\, service providers\, advocates and friends 
 gather to celebrate our partnership and shared work to prevent and end dom
 estic violence and to honor Vision of Peace and Spirit of Advocacy Awardee
 s.\n\n<b>Online ticket sales will end at 10:00 AM on Thursday\, October 4.
   Tickets will be available at the door.</b>\n\n<b>Ticket Prices:</b>\n<b>
 DCADV Members:</b> $45.00\n<b>General Public:</b> $60.00\n<b>New Membershi
 p Package:</b> $100.00\n<i>*Not a member of DCADV?  Purchase a New Members
 hip Package to receive one ticket to the Purple Ribbon Event and a one-yea
 r individual membership.</i>\n<b>Membership Renewal Package:</b> $90.00\n<
 i>Already a member of DCADV?  Renew your membership now and save!  Receive
  one ticket to the Purple Ribbon Event and add a year onto your existing i
 ndividual membership.</i>\n\nNot sure if you're a member?  <a href='https:
 //dcadv.org/who-we-are/members/current-members.html/'>Click here to view o
 ur current member listing.</a>\n\nOther levels of giving are available.  P
 lease visit our <a href='https://dcadv.org/what-we-do/awareness-collaborat
 ion/pre-sponsorship.html/'>Sponsorship</a> page for more information!
DTSTART;TZID=America/New_York:20181004T173000
DTEND;TZID=America/New_York:20181004T203000
LOCATION:Executive Banquet & Conference Center\, Newark\, DE
SUMMARY:2018 Purple Ribbon Event
END:VEVENT
END:VCALENDAR
