BEGIN:VCALENDAR
VERSION:2.0
PRODID:-//dcadv.org//NONSGML kigkonsult.se iCalcreator 2.30.10//
CALSCALE:GREGORIAN
METHOD:PUBLISH
UID:fcadea0c-5e6b-49ce-bf60-68430284562c
X-WR-CALDESC:
X-WR-RELCALID:2c3d9d818b6ead9a72d6668afc078ef9
X-WR-TIMEZONE:America/New_York
BEGIN:VTIMEZONE
TZID:America/New_York
BEGIN:STANDARD
TZNAME:EST
DTSTART:20171105T020000
TZOFFSETFROM:-0400
TZOFFSETTO:-0500
RDATE:20181104T020000
RDATE:20191103T020000
END:STANDARD
BEGIN:DAYLIGHT
TZNAME:EDT
DTSTART:20180311T020000
TZOFFSETFROM:-0500
TZOFFSETTO:-0400
RDATE:20190310T020000
RDATE:20200308T020000
END:DAYLIGHT
END:VTIMEZONE
BEGIN:VEVENT
UID:4b4707e5-1631-4f17-88c6-1da334c30a3f
DTSTAMP:20260422T230241Z
DESCRIPTION:
DTSTART;TZID=America/New_York:20181008T000000
DTEND;TZID=America/New_York:20181008T235900
LOCATION:
SUMMARY:DCADV Office Closed
END:VEVENT
END:VCALENDAR
