BEGIN:VCALENDAR
VERSION:2.0
PRODID:-//dcadv.org//NONSGML kigkonsult.se iCalcreator 2.30.10//
CALSCALE:GREGORIAN
METHOD:PUBLISH
UID:74d90485-8bf3-4ba0-959d-e7b23b50ef74
X-WR-CALDESC:Wear purple to show your support for survivors and for ending 
 domestic violence!  Share your purple on social media using #PurpleThursda
 yDE.
X-WR-RELCALID:0757c982e0c4cb6dbf0807005ae344e3
X-WR-TIMEZONE:America/New_York
BEGIN:VTIMEZONE
TZID:America/New_York
BEGIN:STANDARD
TZNAME:EST
DTSTART:20171105T020000
TZOFFSETFROM:-0400
TZOFFSETTO:-0500
RDATE:20181104T020000
RDATE:20191103T020000
END:STANDARD
BEGIN:DAYLIGHT
TZNAME:EDT
DTSTART:20180311T020000
TZOFFSETFROM:-0500
TZOFFSETTO:-0400
RDATE:20190310T020000
RDATE:20200308T020000
END:DAYLIGHT
END:VTIMEZONE
BEGIN:VEVENT
UID:71f63845-f137-4751-b254-66784db2f56b
DTSTAMP:20260422T230512Z
DESCRIPTION:Wear purple to show your support for survivors and for ending d
 omestic violence!  Share your purple on social media using #PurpleThursday
 DE.
DTSTART;TZID=America/New_York:20181018T000000
DTEND;TZID=America/New_York:20181018T235900
LOCATION:
SUMMARY:Purple Thursday
END:VEVENT
END:VCALENDAR
