BEGIN:VCALENDAR
VERSION:2.0
PRODID:-//dcadv.org//NONSGML kigkonsult.se iCalcreator 2.30.10//
CALSCALE:GREGORIAN
METHOD:PUBLISH
UID:5fe05a7f-24f4-4077-b201-8b4625e7dd2e
X-WR-CALDESC:The National Network to End Domestic Violence (NNEDV) encourag
 es everyone to participate in the 2018 Week of Action as part of Domestic 
 Violence Awareness Month.   Share how you're getting involved and one thin
 g that you can do to promote awareness of DV here in Delaware by using the
  hashtag #1ThingDE on social media!
X-WR-RELCALID:a4f2b82e84824bd42369019024abc375
X-WR-TIMEZONE:America/New_York
BEGIN:VTIMEZONE
TZID:America/New_York
BEGIN:STANDARD
TZNAME:EST
DTSTART:20171105T020000
TZOFFSETFROM:-0400
TZOFFSETTO:-0500
RDATE:20181104T020000
RDATE:20191103T020000
END:STANDARD
BEGIN:DAYLIGHT
TZNAME:EDT
DTSTART:20180311T020000
TZOFFSETFROM:-0500
TZOFFSETTO:-0400
RDATE:20190310T020000
RDATE:20200308T020000
END:DAYLIGHT
END:VTIMEZONE
BEGIN:VEVENT
UID:39dd7513-f16e-4fb1-9934-ca25953aaea8
DTSTAMP:20260422T225859Z
DESCRIPTION:The National Network to End Domestic Violence (NNEDV) encourage
 s everyone to participate in the 2018 Week of Action as part of Domestic V
 iolence Awareness Month.   Share how you're getting involved and one thing
  that you can do to promote awareness of DV here in Delaware by using the 
 hashtag #1ThingDE on social media!
DTSTART;TZID=America/New_York:20181014T000000
DTEND;TZID=America/New_York:20181020T235900
LOCATION:
SUMMARY:DV Awareness Month: Week of Action
END:VEVENT
END:VCALENDAR
