BEGIN:VCALENDAR
VERSION:2.0
PRODID:-//dcadv.org//NONSGML kigkonsult.se iCalcreator 2.30.10//
CALSCALE:GREGORIAN
METHOD:PUBLISH
UID:b6898aaa-2c7e-4bdc-b205-3a2ee8b25a99
X-WR-CALDESC:DCADV is hosting a FREE* CLE training for family law/pro bono 
 attorneys and those providing legal services to victims/survivors of domes
 tic violence.    \n\n<b>Topics include:</b>\n-Collecting and admitting ele
 ctronic evidence in domestic violence cases\n-The impact of trauma on a ca
 se for survivors and advocates\n-Ethical issues that arise when working wi
 th survivors of abuse on civil cases\n\n<b>Presenters</b>:\n-Ian Harris\, 
 JD\, Technology Safety Legal Manager\, National Network to End Domestic Vi
 olence Safety Net Project\n-Mariann Kenville-Moore\, LCSW\, DVS\, Director
  of Advocacy & Policy\, Delaware Coalition Against Domestic Violence\n-Mar
 cey Rezac\, LCSW\, DVS\, Policy Coordinator\, Delaware Coalition Against D
 omestic Violence\n-Laura Carothers Graham\, Esq.\, Managing Attorney\, Del
 aware Medical-Legal Partnership & Immigration Program\, Community Legal Ai
 d Society\, Inc.\n\n5 CLEs are pending (1.0 of Ethics) through Widener Uni
 versity Delaware Law School.  Breakfast and a boxed lunch will be provided
 .\n\n*There is no charge for this training\; however\, there will be a $1.
 50/CLE credit reporting fee for attorneys licensed in Pennsylvania.\n\nReg
 istration will open in late September.  This session will be held in Wilmi
 ngton\, DE.  The same session will be held in Dover\, DE on 10/29/18.
X-WR-RELCALID:4d51fe65f594ddc90525ef3063be418a
X-WR-TIMEZONE:America/New_York
BEGIN:VTIMEZONE
TZID:America/New_York
BEGIN:STANDARD
TZNAME:EST
DTSTART:20171105T020000
TZOFFSETFROM:-0400
TZOFFSETTO:-0500
RDATE:20181104T020000
RDATE:20191103T020000
END:STANDARD
BEGIN:DAYLIGHT
TZNAME:EDT
DTSTART:20180311T020000
TZOFFSETFROM:-0500
TZOFFSETTO:-0400
RDATE:20190310T020000
RDATE:20200308T020000
END:DAYLIGHT
END:VTIMEZONE
BEGIN:VEVENT
UID:00670309-7401-48a9-8781-01705c934921
DTSTAMP:20260422T225609Z
DESCRIPTION:DCADV is hosting a FREE* CLE training for family law/pro bono a
 ttorneys and those providing legal services to victims/survivors of domest
 ic violence.    \n\n<b>Topics include:</b>\n-Collecting and admitting elec
 tronic evidence in domestic violence cases\n-The impact of trauma on a cas
 e for survivors and advocates\n-Ethical issues that arise when working wit
 h survivors of abuse on civil cases\n\n<b>Presenters</b>:\n-Ian Harris\, J
 D\, Technology Safety Legal Manager\, National Network to End Domestic Vio
 lence Safety Net Project\n-Mariann Kenville-Moore\, LCSW\, DVS\, Director 
 of Advocacy & Policy\, Delaware Coalition Against Domestic Violence\n-Marc
 ey Rezac\, LCSW\, DVS\, Policy Coordinator\, Delaware Coalition Against Do
 mestic Violence\n-Laura Carothers Graham\, Esq.\, Managing Attorney\, Dela
 ware Medical-Legal Partnership & Immigration Program\, Community Legal Aid
  Society\, Inc.\n\n5 CLEs are pending (1.0 of Ethics) through Widener Univ
 ersity Delaware Law School.  Breakfast and a boxed lunch will be provided.
 \n\n*There is no charge for this training\; however\, there will be a $1.5
 0/CLE credit reporting fee for attorneys licensed in Pennsylvania.\n\nRegi
 stration will open in late September.  This session will be held in Wilmin
 gton\, DE.  The same session will be held in Dover\, DE on 10/29/18.
DTSTART;TZID=America/New_York:20181030T090000
DTEND;TZID=America/New_York:20181030T151500
LOCATION:Wilmington\, DE
SUMMARY:Legal Services Training: Wilmington
END:VEVENT
END:VCALENDAR
