BEGIN:VCALENDAR
VERSION:2.0
PRODID:-//dcadv.org//NONSGML kigkonsult.se iCalcreator 2.30.10//
CALSCALE:GREGORIAN
METHOD:PUBLISH
UID:3ec75d1e-612d-4a08-84fa-26e5a8a4563b
X-WR-CALDESC:Join us for our 2018 Annual Meeting as we look back on our wor
 k over the past year\, and kick off the celebration of DCADV's 25th annive
 rsary!\n\n9:30 a.m. - 10:00 a.m.    Networking and refreshments\n10:00 a.m
 . - 11:00 a.m.  Program\n\n<b>We have reached our capacity for this event.
   If you have registered and are unable to attend\, please call us at 302-
 658-2958.</b>
X-WR-RELCALID:7256379dc3454ddfb5b07229e942e0e6
X-WR-TIMEZONE:America/New_York
BEGIN:VTIMEZONE
TZID:America/New_York
BEGIN:STANDARD
TZNAME:EST
DTSTART:20181104T020000
TZOFFSETFROM:-0400
TZOFFSETTO:-0500
RDATE:20191103T020000
END:STANDARD
BEGIN:DAYLIGHT
TZNAME:EDT
DTSTART:20180311T020000
TZOFFSETFROM:-0500
TZOFFSETTO:-0400
RDATE:20190310T020000
RDATE:20200308T020000
END:DAYLIGHT
END:VTIMEZONE
BEGIN:VEVENT
UID:b5f10d70-4766-47f5-8409-0940196ea6a1
DTSTAMP:20260422T192932Z
DESCRIPTION:Join us for our 2018 Annual Meeting as we look back on our work
  over the past year\, and kick off the celebration of DCADV's 25th anniver
 sary!\n\n9:30 a.m. - 10:00 a.m.    Networking and refreshments\n10:00 a.m.
  - 11:00 a.m.  Program\n\n<b>We have reached our capacity for this event. 
  If you have registered and are unable to attend\, please call us at 302-6
 58-2958.</b>
DTSTART;TZID=America/New_York:20181204T093000
DTEND;TZID=America/New_York:20181204T110000
LOCATION:The Delaware Center for Horticulture
SUMMARY:2018 Annual Meeting
END:VEVENT
END:VCALENDAR
