BEGIN:VCALENDAR
VERSION:2.0
PRODID:-//dcadv.org//NONSGML kigkonsult.se iCalcreator 2.30.10//
CALSCALE:GREGORIAN
METHOD:PUBLISH
UID:b5d2afa1-e1de-4ab9-b7dc-856c35b16e74
X-WR-CALDESC:Title IX of the Education Amendments of 1972 protects every st
 udent's right to educational opportunities and benefits free from sex disc
 rimination\, including sexual assault and sexual harassment. The U.S. Depa
 rtment of Education is proposing new regulations for schools that will hav
 e significant implications for the civil rights of all students\, especial
 ly students affected by gender-based violence and harassment. Join us for 
 a webinar to learn more about how you can provide advocacy through the 'no
 tice and comment' period. \nFor a more detailed description of the Notice 
 and Comment period and the proposed changes\, see this fact sheet from the
  advocacy organization Know Your IX (https://www.knowyourix.org/wp-content
 /uploads/2018/03/Notice-and-Comment-101.pdf)
X-WR-RELCALID:9e7317ada046d6bc51a690149153ab74
X-WR-TIMEZONE:America/New_York
BEGIN:VTIMEZONE
TZID:America/New_York
BEGIN:STANDARD
TZNAME:EST
DTSTART:20181104T020000
TZOFFSETFROM:-0400
TZOFFSETTO:-0500
RDATE:20191103T020000
END:STANDARD
BEGIN:DAYLIGHT
TZNAME:EDT
DTSTART:20180311T020000
TZOFFSETFROM:-0500
TZOFFSETTO:-0400
RDATE:20190310T020000
RDATE:20200308T020000
END:DAYLIGHT
END:VTIMEZONE
BEGIN:VEVENT
UID:298d1a0c-e4af-4aae-bb15-eb361721bd01
DTSTAMP:20260422T174919Z
DESCRIPTION:Title IX of the Education Amendments of 1972 protects every stu
 dent's right to educational opportunities and benefits free from sex discr
 imination\, including sexual assault and sexual harassment. The U.S. Depar
 tment of Education is proposing new regulations for schools that will have
  significant implications for the civil rights of all students\, especiall
 y students affected by gender-based violence and harassment. Join us for a
  webinar to learn more about how you can provide advocacy through the 'not
 ice and comment' period. \nFor a more detailed description of the Notice a
 nd Comment period and the proposed changes\, see this fact sheet from the 
 advocacy organization Know Your IX (https://www.knowyourix.org/wp-content/
 uploads/2018/03/Notice-and-Comment-101.pdf)
DTSTART;TZID=America/New_York:20190118T100000
DTEND;TZID=America/New_York:20190118T110000
LOCATION:Webinar
SUMMARY:Webinar: Title IX Proposed Regulations: What you need to know to su
 bmit comment
END:VEVENT
END:VCALENDAR
