BEGIN:VCALENDAR
VERSION:2.0
PRODID:-//dcadv.org//NONSGML kigkonsult.se iCalcreator 2.30.10//
CALSCALE:GREGORIAN
METHOD:PUBLISH
UID:dbb3c630-d45b-468b-aaba-c75aab492fcd
X-WR-CALDESC:DCADV's office will be closed on Monday\, January 21\, 2019 in
  observance of Martin Luther King\, Jr. Day.\n\nDelaware's domestic violen
 ce hotlines are available 24/7 to assist those in need of support.\n\nNew 
 Castle County: 302-762-6110\nKent and Sussex Counties: 302-422-8058\nAbrie
 ndo Puertas (Kent and Sussex): 302-745-9874
X-WR-RELCALID:016a36b4936e3d1cfd83d3caf53d4f2e
X-WR-TIMEZONE:America/New_York
BEGIN:VTIMEZONE
TZID:America/New_York
BEGIN:STANDARD
TZNAME:EST
DTSTART:20181104T020000
TZOFFSETFROM:-0400
TZOFFSETTO:-0500
RDATE:20191103T020000
END:STANDARD
BEGIN:DAYLIGHT
TZNAME:EDT
DTSTART:20180311T020000
TZOFFSETFROM:-0500
TZOFFSETTO:-0400
RDATE:20190310T020000
RDATE:20200308T020000
END:DAYLIGHT
END:VTIMEZONE
BEGIN:VEVENT
UID:161c150e-df44-4812-9019-ac1b0b012a99
DTSTAMP:20260422T174633Z
DESCRIPTION:DCADV's office will be closed on Monday\, January 21\, 2019 in 
 observance of Martin Luther King\, Jr. Day.\n\nDelaware's domestic violenc
 e hotlines are available 24/7 to assist those in need of support.\n\nNew C
 astle County: 302-762-6110\nKent and Sussex Counties: 302-422-8058\nAbrien
 do Puertas (Kent and Sussex): 302-745-9874
DTSTART;TZID=America/New_York:20190121T000000
DTEND;TZID=America/New_York:20190121T235900
LOCATION:
SUMMARY:DCADV Office Closed
END:VEVENT
END:VCALENDAR
