BEGIN:VCALENDAR
VERSION:2.0
PRODID:-//dcadv.org//NONSGML kigkonsult.se iCalcreator 2.30.10//
CALSCALE:GREGORIAN
METHOD:PUBLISH
UID:1d5ba5df-c7a6-46f4-b23f-743d7b0864a4
X-WR-CALDESC:
X-WR-RELCALID:3a1a0779469a85e46fd827f383b4061b
X-WR-TIMEZONE:America/New_York
BEGIN:VTIMEZONE
TZID:America/New_York
BEGIN:STANDARD
TZNAME:EST
DTSTART:20181104T020000
TZOFFSETFROM:-0400
TZOFFSETTO:-0500
RDATE:20191103T020000
END:STANDARD
BEGIN:DAYLIGHT
TZNAME:EDT
DTSTART:20180311T020000
TZOFFSETFROM:-0500
TZOFFSETTO:-0400
RDATE:20190310T020000
RDATE:20200308T020000
END:DAYLIGHT
END:VTIMEZONE
BEGIN:VEVENT
UID:2b67fc8f-12bb-4075-a1af-aa03b8a87144
DTSTAMP:20260422T173915Z
DESCRIPTION:
DTSTART;TZID=America/New_York:20190201T000000
DTEND;TZID=America/New_York:20190201T235900
LOCATION:
SUMMARY:February is Teen Dating Violence Awareness and Prevention Month
END:VEVENT
END:VCALENDAR
