BEGIN:VCALENDAR
VERSION:2.0
PRODID:-//dcadv.org//NONSGML kigkonsult.se iCalcreator 2.30.10//
CALSCALE:GREGORIAN
METHOD:PUBLISH
UID:95cbffcf-e60d-4f73-94d8-47dcc8eb38fb
X-WR-CALDESC:Wear Orange 4 Love Day is on the second Tuesday of each Februa
 ry and was started by the National Youth Advisory Board from loveisrespect
 .org to raise awareness about teen dating abuse. This year's Wear Orange 4
  Love Day is on Tuesday\, February 12\, 2019.\n\nSnap a photo of you\, you
 r friends\, or your colleagues wearing orange\, and share it with us on Fa
 cebook (www.facebook.com/DelawareCoalition) and Twitter (www.twitter.com/D
 CADVDE). Tell the world why you wear orange with the hashtags #Orange4Love
 DE and #teenDVmonth!
X-WR-RELCALID:305b784af00a7a0e46f0d5eedc700a74
X-WR-TIMEZONE:America/New_York
BEGIN:VTIMEZONE
TZID:America/New_York
BEGIN:STANDARD
TZNAME:EST
DTSTART:20181104T020000
TZOFFSETFROM:-0400
TZOFFSETTO:-0500
RDATE:20191103T020000
END:STANDARD
BEGIN:DAYLIGHT
TZNAME:EDT
DTSTART:20180311T020000
TZOFFSETFROM:-0500
TZOFFSETTO:-0400
RDATE:20190310T020000
RDATE:20200308T020000
END:DAYLIGHT
END:VTIMEZONE
BEGIN:VEVENT
UID:2604ecbb-3e75-46cb-9e36-585ac937f140
DTSTAMP:20260422T155734Z
DESCRIPTION:Wear Orange 4 Love Day is on the second Tuesday of each Februar
 y and was started by the National Youth Advisory Board from loveisrespect.
 org to raise awareness about teen dating abuse. This year's Wear Orange 4 
 Love Day is on Tuesday\, February 12\, 2019.\n\nSnap a photo of you\, your
  friends\, or your colleagues wearing orange\, and share it with us on Fac
 ebook (www.facebook.com/DelawareCoalition) and Twitter (www.twitter.com/DC
 ADVDE). Tell the world why you wear orange with the hashtags #Orange4LoveD
 E and #teenDVmonth!
DTSTART;TZID=America/New_York:20190212T000000
DTEND;TZID=America/New_York:20190212T235900
LOCATION:
SUMMARY:#Orange4Love Day
END:VEVENT
END:VCALENDAR
