BEGIN:VCALENDAR
VERSION:2.0
PRODID:-//dcadv.org//NONSGML kigkonsult.se iCalcreator 2.30.10//
CALSCALE:GREGORIAN
METHOD:PUBLISH
UID:39380243-0940-4630-bd3f-9f02081aca34
X-WR-CALDESC:Governor John Carney will be signing a proclamation declaring 
 February Teen Dating Violence Awareness and Prevention Month.\n\n
X-WR-RELCALID:4a429440acf5c95583c903f5d57eb3c4
X-WR-TIMEZONE:America/New_York
BEGIN:VTIMEZONE
TZID:America/New_York
BEGIN:STANDARD
TZNAME:EST
DTSTART:20181104T020000
TZOFFSETFROM:-0400
TZOFFSETTO:-0500
RDATE:20191103T020000
END:STANDARD
BEGIN:DAYLIGHT
TZNAME:EDT
DTSTART:20180311T020000
TZOFFSETFROM:-0500
TZOFFSETTO:-0400
RDATE:20190310T020000
RDATE:20200308T020000
END:DAYLIGHT
END:VTIMEZONE
BEGIN:VEVENT
UID:76e9fe66-7dc2-4b65-8203-8fe3b3cdf651
DTSTAMP:20260422T160031Z
DESCRIPTION:Governor John Carney will be signing a proclamation declaring F
 ebruary Teen Dating Violence Awareness and Prevention Month.\n\n
DTSTART;TZID=America/New_York:20190212T093000
DTEND;TZID=America/New_York:20190212T103000
LOCATION:Governor's Office\, Wilmington
SUMMARY:Teen Dating Violence Awareness and Prevention Month Proclamation
END:VEVENT
END:VCALENDAR
