BEGIN:VCALENDAR
VERSION:2.0
PRODID:-//dcadv.org//NONSGML kigkonsult.se iCalcreator 2.30.10//
CALSCALE:GREGORIAN
METHOD:PUBLISH
UID:eb497a88-5ace-431e-8d3f-5dc49c1b6f9f
X-WR-CALDESC:DCADV's office will be closed on Monday\, February 18\, 2019 i
 n observance of Presidents' Day.\n\nDelaware's domestic violence hotlines 
 are available 24/7 to assist those in need of support.\n\nNew Castle Count
 y: 302-762-6110\nKent and Sussex Counties: 302-422-8058\nAbriendo Puertas 
 (Kent and Sussex): 302-745-9874
X-WR-RELCALID:c44036e9ba77e05586a7b691571f3205
X-WR-TIMEZONE:America/New_York
BEGIN:VTIMEZONE
TZID:America/New_York
BEGIN:STANDARD
TZNAME:EST
DTSTART:20181104T020000
TZOFFSETFROM:-0400
TZOFFSETTO:-0500
RDATE:20191103T020000
END:STANDARD
BEGIN:DAYLIGHT
TZNAME:EDT
DTSTART:20180311T020000
TZOFFSETFROM:-0500
TZOFFSETTO:-0400
RDATE:20190310T020000
RDATE:20200308T020000
END:DAYLIGHT
END:VTIMEZONE
BEGIN:VEVENT
UID:57f6c59b-aea5-42a2-ad4b-702d400b328d
DTSTAMP:20260422T160133Z
DESCRIPTION:DCADV's office will be closed on Monday\, February 18\, 2019 in
  observance of Presidents' Day.\n\nDelaware's domestic violence hotlines a
 re available 24/7 to assist those in need of support.\n\nNew Castle County
 : 302-762-6110\nKent and Sussex Counties: 302-422-8058\nAbriendo Puertas (
 Kent and Sussex): 302-745-9874
DTSTART;TZID=America/New_York:20190218T000000
DTEND;TZID=America/New_York:20190218T235900
LOCATION:
SUMMARY:DCADV Office Closed
END:VEVENT
END:VCALENDAR
