BEGIN:VCALENDAR
VERSION:2.0
PRODID:-//dcadv.org//NONSGML kigkonsult.se iCalcreator 2.30.10//
CALSCALE:GREGORIAN
METHOD:PUBLISH
UID:ded6b740-d593-4301-bd3f-646fd5019a6a
X-WR-CALDESC:DCADV's Women of Color Task Force presents:\n\n<i>Stop the Mad
 ness!  A Workshop on Domestic Violence & the Impact of the Courageous Byst
 ander</i>\n\n<b>Presenters include:</b>\n*Paulette Sullivan Moore\n*Sherri
  Akil\n*Juan Rodriguez\n\nThere will also be a featured dance presentation
  by Pieces of a Dream\, Inc.\, Delaware's only professional modern dance c
 ompany\, showcasing an original work on the societal issue of domestic vio
 lence.\n\n<b>Registration Costs:</b>\nEarly Bird Registration (through 3/1
 8/19): $15.00\nGeneral Registration (3/19/19-4/5/19): $20.00
X-WR-RELCALID:39cead427de15a17aad09bb713db2bf9
X-WR-TIMEZONE:America/New_York
BEGIN:VTIMEZONE
TZID:America/New_York
BEGIN:STANDARD
TZNAME:EST
DTSTART:20181104T020000
TZOFFSETFROM:-0400
TZOFFSETTO:-0500
RDATE:20191103T020000
END:STANDARD
BEGIN:DAYLIGHT
TZNAME:EDT
DTSTART:20190310T020000
TZOFFSETFROM:-0500
TZOFFSETTO:-0400
RDATE:20200308T020000
END:DAYLIGHT
END:VTIMEZONE
BEGIN:VEVENT
UID:c3cec036-9b5b-4724-8990-b4f997a407df
DTSTAMP:20260422T122948Z
DESCRIPTION:DCADV's Women of Color Task Force presents:\n\n<i>Stop the Madn
 ess!  A Workshop on Domestic Violence & the Impact of the Courageous Bysta
 nder</i>\n\n<b>Presenters include:</b>\n*Paulette Sullivan Moore\n*Sherri 
 Akil\n*Juan Rodriguez\n\nThere will also be a featured dance presentation 
 by Pieces of a Dream\, Inc.\, Delaware's only professional modern dance co
 mpany\, showcasing an original work on the societal issue of domestic viol
 ence.\n\n<b>Registration Costs:</b>\nEarly Bird Registration (through 3/18
 /19): $15.00\nGeneral Registration (3/19/19-4/5/19): $20.00
DTSTART;TZID=America/New_York:20190410T090000
DTEND;TZID=America/New_York:20190410T120000
LOCATION:Delaware Art Museum\, 2301 Kentmere Parkway\, Wilmington
SUMMARY:Women of Color Task Force Conference
END:VEVENT
END:VCALENDAR
