BEGIN:VCALENDAR
VERSION:2.0
PRODID:-//dcadv.org//NONSGML kigkonsult.se iCalcreator 2.30.10//
CALSCALE:GREGORIAN
METHOD:PUBLISH
UID:2dd6f7a8-2051-4303-9c39-56d96e1a571a
X-WR-CALDESC:
X-WR-RELCALID:0d5ca4e49ae7a7afa1549f22fe5ba379
X-WR-TIMEZONE:America/New_York
BEGIN:VTIMEZONE
TZID:America/New_York
BEGIN:STANDARD
TZNAME:EST
DTSTART:20181104T020000
TZOFFSETFROM:-0400
TZOFFSETTO:-0500
RDATE:20191103T020000
END:STANDARD
BEGIN:DAYLIGHT
TZNAME:EDT
DTSTART:20190310T020000
TZOFFSETFROM:-0500
TZOFFSETTO:-0400
RDATE:20200308T020000
END:DAYLIGHT
END:VTIMEZONE
BEGIN:VEVENT
UID:7fae2a71-dd96-4524-b08d-1579f57c434f
DTSTAMP:20260422T110533Z
DESCRIPTION:
DTSTART;TZID=America/New_York:20190501T000000
DTEND;TZID=America/New_York:20190501T235900
LOCATION:
SUMMARY:May is Trauma Awareness Month
END:VEVENT
END:VCALENDAR
