BEGIN:VCALENDAR
VERSION:2.0
PRODID:-//dcadv.org//NONSGML kigkonsult.se iCalcreator 2.30.10//
CALSCALE:GREGORIAN
METHOD:PUBLISH
UID:a9ca2172-6a99-45e5-b8ec-232f058b0887
X-WR-CALDESC:Join us for our 21st Advocates' Retreat and Conference in beau
 tiful Rehoboth Beach\, Delaware!  Check the <a href='https://dcadv.org/wha
 t-we-do/training-and-certification/retreat.html'>Retreat and Conference ho
 mepage </a> for the latest details.\n\n<b>We have reached our maximum capa
 city for registration and the waiting list!  Please keep an eye on our eve
 nt calendar for future training opportunities.</b>
X-WR-RELCALID:2aae508032e1f351055ea9102c8ea42f
X-WR-TIMEZONE:America/New_York
BEGIN:VTIMEZONE
TZID:America/New_York
BEGIN:STANDARD
TZNAME:EST
DTSTART:20181104T020000
TZOFFSETFROM:-0400
TZOFFSETTO:-0500
RDATE:20191103T020000
RDATE:20201101T020000
END:STANDARD
BEGIN:DAYLIGHT
TZNAME:EDT
DTSTART:20190310T020000
TZOFFSETFROM:-0500
TZOFFSETTO:-0400
RDATE:20200308T020000
END:DAYLIGHT
END:VTIMEZONE
BEGIN:VEVENT
UID:547f9746-a4a7-48d0-91d8-0477c97b853d
DTSTAMP:20260422T122948Z
DESCRIPTION:Join us for our 21st Advocates' Retreat and Conference in beaut
 iful Rehoboth Beach\, Delaware!  Check the <a href='https://dcadv.org/what
 -we-do/training-and-certification/retreat.html'>Retreat and Conference hom
 epage </a> for the latest details.\n\n<b>We have reached our maximum capac
 ity for registration and the waiting list!  Please keep an eye on our even
 t calendar for future training opportunities.</b>
DTSTART;TZID=America/New_York:20190506T000000
DTEND;TZID=America/New_York:20190507T235900
LOCATION:Atlantic Sands Hotel and Conference Center\, Rehoboth Beach\, DE
SUMMARY:21st Advocates' Retreat and Conference
END:VEVENT
END:VCALENDAR
