BEGIN:VCALENDAR
VERSION:2.0
PRODID:-//dcadv.org//NONSGML kigkonsult.se iCalcreator 2.30.10//
CALSCALE:GREGORIAN
METHOD:PUBLISH
UID:9f9f7160-1019-436d-97f6-72e76953130c
X-WR-CALDESC:DCADV's office will be closed on Monday\, May 27\, 2019 in obs
 ervance of Memorial Day.\n\nDelaware's domestic violence hotlines are avai
 lable 24/7 to assist those in need of support.\n\nNew Castle County: 302-7
 62-6110\nKent and Sussex Counties: 302-422-8058\nAbriendo Puertas (Kent an
 d Sussex): 302-745-9874
X-WR-RELCALID:837b1fd427af82e2f6a2edef94ebbed8
X-WR-TIMEZONE:America/New_York
BEGIN:VTIMEZONE
TZID:America/New_York
BEGIN:STANDARD
TZNAME:EST
DTSTART:20181104T020000
TZOFFSETFROM:-0400
TZOFFSETTO:-0500
RDATE:20191103T020000
RDATE:20201101T020000
END:STANDARD
BEGIN:DAYLIGHT
TZNAME:EDT
DTSTART:20190310T020000
TZOFFSETFROM:-0500
TZOFFSETTO:-0400
RDATE:20200308T020000
END:DAYLIGHT
END:VTIMEZONE
BEGIN:VEVENT
UID:1d95b523-6c08-4e2d-a9e4-dd4d710d5d0b
DTSTAMP:20260422T110139Z
DESCRIPTION:DCADV's office will be closed on Monday\, May 27\, 2019 in obse
 rvance of Memorial Day.\n\nDelaware's domestic violence hotlines are avail
 able 24/7 to assist those in need of support.\n\nNew Castle County: 302-76
 2-6110\nKent and Sussex Counties: 302-422-8058\nAbriendo Puertas (Kent and
  Sussex): 302-745-9874
DTSTART;TZID=America/New_York:20190527T000000
DTEND;TZID=America/New_York:20190527T235900
LOCATION:
SUMMARY:DCADV Office Closed
END:VEVENT
END:VCALENDAR
