BEGIN:VCALENDAR
VERSION:2.0
PRODID:-//dcadv.org//NONSGML kigkonsult.se iCalcreator 2.30.10//
CALSCALE:GREGORIAN
METHOD:PUBLISH
UID:8b8e3252-bf30-463e-abcd-d8a8f346200b
X-WR-CALDESC:DCADV's office will be closed on Thursday\, July 4 and Friday\
 , July 5 in observance of Independence Day.\n\nDelaware's domestic violenc
 e hotlines are available 24/7 to assist those in need of support.\n\nNew C
 astle County: 302-762-6110\nKent and Sussex Counties: 302-422-8058\nAbrien
 do Puertas (Kent and Sussex): 302-745-9874
X-WR-RELCALID:170b25877f18f55440de139a39df6a25
X-WR-TIMEZONE:America/New_York
BEGIN:VTIMEZONE
TZID:America/New_York
BEGIN:STANDARD
TZNAME:EST
DTSTART:20181104T020000
TZOFFSETFROM:-0400
TZOFFSETTO:-0500
RDATE:20191103T020000
RDATE:20201101T020000
END:STANDARD
BEGIN:DAYLIGHT
TZNAME:EDT
DTSTART:20190310T020000
TZOFFSETFROM:-0500
TZOFFSETTO:-0400
RDATE:20200308T020000
END:DAYLIGHT
END:VTIMEZONE
BEGIN:VEVENT
UID:acdb1238-578e-49f7-a3ec-6838864359e8
DTSTAMP:20260422T090547Z
DESCRIPTION:DCADV's office will be closed on Thursday\, July 4 and Friday\,
  July 5 in observance of Independence Day.\n\nDelaware's domestic violence
  hotlines are available 24/7 to assist those in need of support.\n\nNew Ca
 stle County: 302-762-6110\nKent and Sussex Counties: 302-422-8058\nAbriend
 o Puertas (Kent and Sussex): 302-745-9874
DTSTART;TZID=America/New_York:20190704T000000
DTEND;TZID=America/New_York:20190705T235900
LOCATION:
SUMMARY:DCADV Office Closed
END:VEVENT
END:VCALENDAR
