BEGIN:VCALENDAR
VERSION:2.0
PRODID:-//dcadv.org//NONSGML kigkonsult.se iCalcreator 2.30.10//
CALSCALE:GREGORIAN
METHOD:PUBLISH
UID:302151e5-69c3-4184-b5c9-c6529c978c00
X-WR-CALDESC:DCADV's office will be closed on Monday\, September 2\, 2019 i
 n observance of Labor Day.\n\nDelaware's domestic violence hotlines are av
 ailable 24/7 to assist those in need of support.\n\nNew Castle County: 302
 -762-6110\nKent and Sussex Counties: 302-422-8058\nAbriendo Puertas (Kent 
 and Sussex): 302-745-9874
X-WR-RELCALID:26120a18db8c0b0c04ffc4b5c68e1eab
X-WR-TIMEZONE:America/New_York
BEGIN:VTIMEZONE
TZID:America/New_York
BEGIN:STANDARD
TZNAME:EST
DTSTART:20181104T020000
TZOFFSETFROM:-0400
TZOFFSETTO:-0500
RDATE:20191103T020000
RDATE:20201101T020000
END:STANDARD
BEGIN:DAYLIGHT
TZNAME:EDT
DTSTART:20190310T020000
TZOFFSETFROM:-0500
TZOFFSETTO:-0400
RDATE:20200308T020000
END:DAYLIGHT
END:VTIMEZONE
BEGIN:VEVENT
UID:48aa2314-f42d-4173-ab22-e9f7a01dc7ba
DTSTAMP:20260422T044005Z
DESCRIPTION:DCADV's office will be closed on Monday\, September 2\, 2019 in
  observance of Labor Day.\n\nDelaware's domestic violence hotlines are ava
 ilable 24/7 to assist those in need of support.\n\nNew Castle County: 302-
 762-6110\nKent and Sussex Counties: 302-422-8058\nAbriendo Puertas (Kent a
 nd Sussex): 302-745-9874
DTSTART;TZID=America/New_York:20190902T000000
DTEND;TZID=America/New_York:20190902T235900
LOCATION:
SUMMARY:DCADV Office Closed
END:VEVENT
END:VCALENDAR
