BEGIN:VCALENDAR
VERSION:2.0
PRODID:-//dcadv.org//NONSGML kigkonsult.se iCalcreator 2.30.10//
CALSCALE:GREGORIAN
METHOD:PUBLISH
UID:292f4817-3f6c-4321-952d-7bb15b33c854
X-WR-CALDESC:<b>We have reached capacity and there is now a waiting list.  
 To join the waiting list\, please click on Register Now and fill out the f
 orm.</b>  \n\nDCADV offers a semi-annual two-day Domestic Violence 101 (DV
 101) Training.  DV101 is the Coalition’s signature training event and attr
 acts a multidisciplinary audience from across the state.  Participants typ
 ically include domestic violence service providers\, nonprofit organizatio
 ns\, law enforcement agencies\, and state employees working on issues rang
 ing from behavioral health services to human resources to the criminal jus
 tice system.  DV101 provides an overview of the dynamics and prevalence of
  domestic violence\, and teaches participants effective advocacy skills th
 at support safety and empowerment across systems.  Topics covered during t
 he training include:\n\n- History & Culture of Domestic Violence\n- Dynami
 cs of Abusive Relationships\n- Empowerment Advocacy\n- Risk Assessment\n- 
 Safety Planning\n- Community Resources\n- Criminal Justice and Civil Justi
 ce Systems\n- Protection from Abuse Orders\n- Trauma-Informed Services\n- 
 Prevention & Social Change\n\n<b>Dates:</b>\nWednesday\, September 18 and 
 Thursday\, September 19\, 2019\n\n<b>Location:</b>\nDelaware Technical and
  Community College\, Terry Campus\n100 Campus Drive\, Dover\, DE 19904\nCo
 rporate Training Center\, Room 400B\n\n<b>Times:</b>\n8:30 a.m. - 9:00 a.m
 . Registration/Check In\n9:00 a.m. - 4:00 p.m. Workshop with breaks\n\n<i>
 *Lunch will not be provided.  There will be a 75-minute break for lunch.  
 Participants may leave the training facility to purchase a meal or bring a
  packed lunch.</i>\n\n<b>Registration Fees:</b>\n$40.00 (both days)- Delaw
 are Certified Domestic Violence Specialists\, DCADV Member Organizations\,
  and Current DCADV Supporting Members\n$50.00 (both days)- Nonmembers\n<i>
 Not sure if you're a member?  <a href='https://dcadv.org/who-we-are/member
 s/current-members.html'>Click here</a>  to view a list of our current memb
 ers.</i>\n\n*Single day registration is also available ($20 for members/$2
 5 for nonmembers).  However\, it is highly recommended that participants a
 ttend Day 1 before attending Day 2.\n\n<b>This course has been approved by
  the National Association of Social Workers\, Delaware Chapter for 10.5 co
 ntact hours of continuing education credit.</b>
X-WR-RELCALID:84f8eaab1874acec50134e984a1b3cf9
X-WR-TIMEZONE:America/New_York
BEGIN:VTIMEZONE
TZID:America/New_York
BEGIN:STANDARD
TZNAME:EST
DTSTART:20181104T020000
TZOFFSETFROM:-0400
TZOFFSETTO:-0500
RDATE:20191103T020000
RDATE:20201101T020000
END:STANDARD
BEGIN:DAYLIGHT
TZNAME:EDT
DTSTART:20190310T020000
TZOFFSETFROM:-0500
TZOFFSETTO:-0400
RDATE:20200308T020000
RDATE:20210314T020000
END:DAYLIGHT
END:VTIMEZONE
BEGIN:VEVENT
UID:d4876985-a05d-47b9-a176-f1f0f622390c
DTSTAMP:20260422T044523Z
DESCRIPTION:<b>We have reached capacity and there is now a waiting list.  T
 o join the waiting list\, please click on Register Now and fill out the fo
 rm.</b>  \n\nDCADV offers a semi-annual two-day Domestic Violence 101 (DV1
 01) Training.  DV101 is the Coalition’s signature training event and attra
 cts a multidisciplinary audience from across the state.  Participants typi
 cally include domestic violence service providers\, nonprofit organization
 s\, law enforcement agencies\, and state employees working on issues rangi
 ng from behavioral health services to human resources to the criminal just
 ice system.  DV101 provides an overview of the dynamics and prevalence of 
 domestic violence\, and teaches participants effective advocacy skills tha
 t support safety and empowerment across systems.  Topics covered during th
 e training include:\n\n- History & Culture of Domestic Violence\n- Dynamic
 s of Abusive Relationships\n- Empowerment Advocacy\n- Risk Assessment\n- S
 afety Planning\n- Community Resources\n- Criminal Justice and Civil Justic
 e Systems\n- Protection from Abuse Orders\n- Trauma-Informed Services\n- P
 revention & Social Change\n\n<b>Dates:</b>\nWednesday\, September 18 and T
 hursday\, September 19\, 2019\n\n<b>Location:</b>\nDelaware Technical and 
 Community College\, Terry Campus\n100 Campus Drive\, Dover\, DE 19904\nCor
 porate Training Center\, Room 400B\n\n<b>Times:</b>\n8:30 a.m. - 9:00 a.m.
  Registration/Check In\n9:00 a.m. - 4:00 p.m. Workshop with breaks\n\n<i>*
 Lunch will not be provided.  There will be a 75-minute break for lunch.  P
 articipants may leave the training facility to purchase a meal or bring a 
 packed lunch.</i>\n\n<b>Registration Fees:</b>\n$40.00 (both days)- Delawa
 re Certified Domestic Violence Specialists\, DCADV Member Organizations\, 
 and Current DCADV Supporting Members\n$50.00 (both days)- Nonmembers\n<i>N
 ot sure if you're a member?  <a href='https://dcadv.org/who-we-are/members
 /current-members.html'>Click here</a>  to view a list of our current membe
 rs.</i>\n\n*Single day registration is also available ($20 for members/$25
  for nonmembers).  However\, it is highly recommended that participants at
 tend Day 1 before attending Day 2.\n\n<b>This course has been approved by 
 the National Association of Social Workers\, Delaware Chapter for 10.5 con
 tact hours of continuing education credit.</b>
DTSTART;TZID=America/New_York:20190918T090000
DTEND;TZID=America/New_York:20190919T160000
LOCATION:Delaware Technical and Community College\, Dover\, DE
SUMMARY:Domestic Violence 101 Training
END:VEVENT
END:VCALENDAR
