BEGIN:VCALENDAR
VERSION:2.0
PRODID:-//dcadv.org//NONSGML kigkonsult.se iCalcreator 2.30.10//
CALSCALE:GREGORIAN
METHOD:PUBLISH
UID:a2350c11-4d35-4f39-aa18-f7e866d71f93
X-WR-CALDESC:October is Domestic Violence Awareness Month.
X-WR-RELCALID:6c5705f6bd27798be571b8113b7702d7
X-WR-TIMEZONE:America/New_York
BEGIN:VTIMEZONE
TZID:America/New_York
BEGIN:STANDARD
TZNAME:EST
DTSTART:20181104T020000
TZOFFSETFROM:-0400
TZOFFSETTO:-0500
RDATE:20191103T020000
RDATE:20201101T020000
END:STANDARD
BEGIN:DAYLIGHT
TZNAME:EDT
DTSTART:20190310T020000
TZOFFSETFROM:-0500
TZOFFSETTO:-0400
RDATE:20200308T020000
RDATE:20210314T020000
END:DAYLIGHT
END:VTIMEZONE
BEGIN:VEVENT
UID:1bdd0ba2-4713-470d-b0e8-12f435123c1c
DTSTAMP:20260422T030824Z
DESCRIPTION:October is Domestic Violence Awareness Month.
DTSTART;TZID=America/New_York:20191001T000000
DTEND;TZID=America/New_York:20191001T235900
LOCATION:
SUMMARY:October is Domestic Violence Awareness Month
END:VEVENT
END:VCALENDAR
