BEGIN:VCALENDAR
VERSION:2.0
PRODID:-//dcadv.org//NONSGML kigkonsult.se iCalcreator 2.30.10//
CALSCALE:GREGORIAN
METHOD:PUBLISH
UID:70121438-a173-40b5-b6d5-ffdda86eb7a9
X-WR-CALDESC:
X-WR-RELCALID:ea0d2bcfac8bb203cddddeaeb2995790
X-WR-TIMEZONE:America/New_York
BEGIN:VTIMEZONE
TZID:America/New_York
BEGIN:STANDARD
TZNAME:EST
DTSTART:20181104T020000
TZOFFSETFROM:-0400
TZOFFSETTO:-0500
RDATE:20191103T020000
RDATE:20201101T020000
END:STANDARD
BEGIN:DAYLIGHT
TZNAME:EDT
DTSTART:20190310T020000
TZOFFSETFROM:-0500
TZOFFSETTO:-0400
RDATE:20200308T020000
RDATE:20210314T020000
END:DAYLIGHT
END:VTIMEZONE
BEGIN:VEVENT
UID:4bdb54d4-b397-4efd-9df7-9ccc813fdd0d
DTSTAMP:20260422T030824Z
DESCRIPTION:
DTSTART;TZID=America/New_York:20191003T173000
DTEND;TZID=America/New_York:20191003T203000
LOCATION:Executive Banquet and Conference Center\, Newark\, DE
SUMMARY:DCADV's 25th Anniversary Celebration
END:VEVENT
END:VCALENDAR
