BEGIN:VCALENDAR
VERSION:2.0
PRODID:-//dcadv.org//NONSGML kigkonsult.se iCalcreator 2.30.10//
CALSCALE:GREGORIAN
METHOD:PUBLISH
UID:43065784-3b9c-4c0a-aba7-61a592f7ad51
X-WR-CALDESC:This training is designed for attorneys and domestic violence 
 program advocates to learn more about maintaining empathy with victims/sur
 vivors while experiencing vicarious trauma as we bear witness to their sto
 ries/experiences.\n\nThis training is open to LAV project partners only.
X-WR-RELCALID:cb1dffd994ad3419de92729681a7393c
X-WR-TIMEZONE:America/New_York
BEGIN:VTIMEZONE
TZID:America/New_York
BEGIN:STANDARD
TZNAME:EST
DTSTART:20181104T020000
TZOFFSETFROM:-0400
TZOFFSETTO:-0500
RDATE:20191103T020000
RDATE:20201101T020000
END:STANDARD
BEGIN:DAYLIGHT
TZNAME:EDT
DTSTART:20190310T020000
TZOFFSETFROM:-0500
TZOFFSETTO:-0400
RDATE:20200308T020000
RDATE:20210314T020000
END:DAYLIGHT
END:VTIMEZONE
BEGIN:VEVENT
UID:00f5cb79-ea45-4634-a11e-f379937468e3
DTSTAMP:20260422T031255Z
DESCRIPTION:This training is designed for attorneys and domestic violence p
 rogram advocates to learn more about maintaining empathy with victims/surv
 ivors while experiencing vicarious trauma as we bear witness to their stor
 ies/experiences.\n\nThis training is open to LAV project partners only.
DTSTART;TZID=America/New_York:20191007T100000
DTEND;TZID=America/New_York:20191007T150000
LOCATION:
SUMMARY:Maintaining Empathy While Experiencing Vicarious Trauma
END:VEVENT
END:VCALENDAR
