BEGIN:VCALENDAR
VERSION:2.0
PRODID:-//dcadv.org//NONSGML kigkonsult.se iCalcreator 2.30.10//
CALSCALE:GREGORIAN
METHOD:PUBLISH
UID:f9cac934-a903-4e4e-8b88-b6d11f2b1d56
X-WR-CALDESC:DCADV's office will be closed on Monday\, October 14\, 2019.
X-WR-RELCALID:e7109e6e4c5f524e7c3eff4e7b00db86
X-WR-TIMEZONE:America/New_York
BEGIN:VTIMEZONE
TZID:America/New_York
BEGIN:STANDARD
TZNAME:EST
DTSTART:20181104T020000
TZOFFSETFROM:-0400
TZOFFSETTO:-0500
RDATE:20191103T020000
RDATE:20201101T020000
END:STANDARD
BEGIN:DAYLIGHT
TZNAME:EDT
DTSTART:20190310T020000
TZOFFSETFROM:-0500
TZOFFSETTO:-0400
RDATE:20200308T020000
RDATE:20210314T020000
END:DAYLIGHT
END:VTIMEZONE
BEGIN:VEVENT
UID:2a5ceaf7-4053-4dfe-abd1-99161b7351e4
DTSTAMP:20260422T031511Z
DESCRIPTION:DCADV's office will be closed on Monday\, October 14\, 2019.
DTSTART;TZID=America/New_York:20191014T000000
DTEND;TZID=America/New_York:20191014T235900
LOCATION:
SUMMARY:Fall Holiday- DCADV Office Closed
END:VEVENT
END:VCALENDAR
