BEGIN:VCALENDAR
VERSION:2.0
PRODID:-//dcadv.org//NONSGML kigkonsult.se iCalcreator 2.30.10//
CALSCALE:GREGORIAN
METHOD:PUBLISH
UID:c829ee9e-b455-46ab-95f5-cab7fcf6624c
X-WR-CALDESC:Safety planning is one of the most critical and essential serv
 ices we can offer to victims/survivors of domestic violence.  Join DCADV a
 nd the Training Subcommittee of the Delaware Domestic Violence Task Force 
 for  a series of lunch-and-learn workshops to explore safety planning from
  a variety of perspectives.\n\nThe second session will focus on 'Safety Pl
 anning with Survivors and Children.'  Presenters include \n*Mariann Kenvil
 le-Moore\, LCSW\, DVS\, Director of Advocacy & Policy\, DCADV \n*Sonya Tul
 l\, Domestic Violence Liaison\, CHILD\, Inc.\n*Bridget Walters\, DVS\, Dom
 estic Violence Liaison\, CHILD\, Inc.\n\n<b>There is no cost to attend\, b
 ut registration is required as space is very limited.</b>  If the training
  fills\, we will start a waiting list.\nAttendees are invited to bring a b
 rown bag lunch (lunch will <b><u>not</u></b> be provided).  \n\n
X-WR-RELCALID:207e19d0d02a1aaecb7418c487bb1df7
X-WR-TIMEZONE:America/New_York
BEGIN:VTIMEZONE
TZID:America/New_York
BEGIN:STANDARD
TZNAME:EST
DTSTART:20181104T020000
TZOFFSETFROM:-0400
TZOFFSETTO:-0500
RDATE:20191103T020000
RDATE:20201101T020000
END:STANDARD
BEGIN:DAYLIGHT
TZNAME:EDT
DTSTART:20190310T020000
TZOFFSETFROM:-0500
TZOFFSETTO:-0400
RDATE:20200308T020000
RDATE:20210314T020000
END:DAYLIGHT
END:VTIMEZONE
BEGIN:VEVENT
UID:323179c1-60dd-4c46-823f-46bc12a24d14
DTSTAMP:20260422T030915Z
DESCRIPTION:Safety planning is one of the most critical and essential servi
 ces we can offer to victims/survivors of domestic violence.  Join DCADV an
 d the Training Subcommittee of the Delaware Domestic Violence Task Force f
 or  a series of lunch-and-learn workshops to explore safety planning from 
 a variety of perspectives.\n\nThe second session will focus on 'Safety Pla
 nning with Survivors and Children.'  Presenters include \n*Mariann Kenvill
 e-Moore\, LCSW\, DVS\, Director of Advocacy & Policy\, DCADV \n*Sonya Tull
 \, Domestic Violence Liaison\, CHILD\, Inc.\n*Bridget Walters\, DVS\, Dome
 stic Violence Liaison\, CHILD\, Inc.\n\n<b>There is no cost to attend\, bu
 t registration is required as space is very limited.</b>  If the training 
 fills\, we will start a waiting list.\nAttendees are invited to bring a br
 own bag lunch (lunch will <b><u>not</u></b> be provided).  \n\n
DTSTART;TZID=America/New_York:20191023T113000
DTEND;TZID=America/New_York:20191023T130000
LOCATION:Appoquinimink State Service Center\, Middletown\, DE
SUMMARY:Safety Planning with Survivors and Children
END:VEVENT
END:VCALENDAR
