BEGIN:VCALENDAR
VERSION:2.0
PRODID:-//dcadv.org//NONSGML kigkonsult.se iCalcreator 2.30.10//
CALSCALE:GREGORIAN
METHOD:PUBLISH
UID:b63bee39-1996-4855-8465-6cc675e62702
X-WR-CALDESC:Show your support for Domestic Violence Awareness Month and we
 ar purple on Thursday\, October 24!\n\nShare your photos with us on <a hre
 f='http://www.facebook.com/DelawareCoalition'>Facebook</a> or via email at
  training@dcadv.org.
X-WR-RELCALID:97b956cc3aa04f0f41ba8ec23c3191a2
X-WR-TIMEZONE:America/New_York
BEGIN:VTIMEZONE
TZID:America/New_York
BEGIN:STANDARD
TZNAME:EST
DTSTART:20181104T020000
TZOFFSETFROM:-0400
TZOFFSETTO:-0500
RDATE:20191103T020000
RDATE:20201101T020000
END:STANDARD
BEGIN:DAYLIGHT
TZNAME:EDT
DTSTART:20190310T020000
TZOFFSETFROM:-0500
TZOFFSETTO:-0400
RDATE:20200308T020000
RDATE:20210314T020000
END:DAYLIGHT
END:VTIMEZONE
BEGIN:VEVENT
UID:28b17e89-e6ac-41b8-8883-c0cae955a765
DTSTAMP:20260422T031418Z
DESCRIPTION:Show your support for Domestic Violence Awareness Month and wea
 r purple on Thursday\, October 24!\n\nShare your photos with us on <a href
 ='http://www.facebook.com/DelawareCoalition'>Facebook</a> or via email at 
 training@dcadv.org.
DTSTART;TZID=America/New_York:20191024T000000
DTEND;TZID=America/New_York:20191024T235900
LOCATION:
SUMMARY:Domestic Violence Awareness Month: Purple Thursday
END:VEVENT
END:VCALENDAR
