BEGIN:VCALENDAR
VERSION:2.0
PRODID:-//dcadv.org//NONSGML kigkonsult.se iCalcreator 2.30.10//
CALSCALE:GREGORIAN
METHOD:PUBLISH
UID:77f6086b-bf2d-4dc8-9416-3248541eca53
X-WR-CALDESC:Every October\, during national Domestic Violence Awareness Mo
 nth\, we participate in a national Week of Action. Each day during the #DV
 AMWeekofAction\, we encourage individuals\, advocates\, and communities to
  take action and help end domestic violence.\n\nThis year's campaign is 'W
 hat's Your #1Thing?'  Tell us about one thing you can do to:\n<ul><li>End 
 domestic violence</li>\n<li>Help survivors</li>\n<li>Promote healthy relat
 ionships</li>\n<li>Address oppression and violence</li>\n</ul>\n\nDownload
  the #1Thing photo card\, fill it out and take a photo to show us how you'
 re taking action!  Feel free to share your photos and ideas with us on <a 
 href='http://www.facebook.com/DelawareCoalition'>Facebook</a> or via email
  at training@dcadv.org.
X-WR-RELCALID:8b25052cab8f4f64d48ab5fb6abb1e50
X-WR-TIMEZONE:America/New_York
BEGIN:VTIMEZONE
TZID:America/New_York
BEGIN:STANDARD
TZNAME:EST
DTSTART:20181104T020000
TZOFFSETFROM:-0400
TZOFFSETTO:-0500
RDATE:20191103T020000
RDATE:20201101T020000
END:STANDARD
BEGIN:DAYLIGHT
TZNAME:EDT
DTSTART:20190310T020000
TZOFFSETFROM:-0500
TZOFFSETTO:-0400
RDATE:20200308T020000
RDATE:20210314T020000
END:DAYLIGHT
END:VTIMEZONE
BEGIN:VEVENT
UID:d3252e2a-d95e-4b03-bcf2-72c35e839f8c
DTSTAMP:20260422T030656Z
DESCRIPTION:Every October\, during national Domestic Violence Awareness Mon
 th\, we participate in a national Week of Action. Each day during the #DVA
 MWeekofAction\, we encourage individuals\, advocates\, and communities to 
 take action and help end domestic violence.\n\nThis year's campaign is 'Wh
 at's Your #1Thing?'  Tell us about one thing you can do to:\n<ul><li>End d
 omestic violence</li>\n<li>Help survivors</li>\n<li>Promote healthy relati
 onships</li>\n<li>Address oppression and violence</li>\n</ul>\n\nDownload 
 the #1Thing photo card\, fill it out and take a photo to show us how you'r
 e taking action!  Feel free to share your photos and ideas with us on <a h
 ref='http://www.facebook.com/DelawareCoalition'>Facebook</a> or via email 
 at training@dcadv.org.
DTSTART;TZID=America/New_York:20191020T000000
DTEND;TZID=America/New_York:20191026T235900
LOCATION:
SUMMARY:Domestic Violence Awareness Month: Week of Action
END:VEVENT
END:VCALENDAR
