BEGIN:VCALENDAR
VERSION:2.0
PRODID:-//dcadv.org//NONSGML kigkonsult.se iCalcreator 2.30.10//
CALSCALE:GREGORIAN
METHOD:PUBLISH
UID:752eb596-acde-4814-8351-d44477e746e6
X-WR-CALDESC:DCADV's office will be closed on Thursday\, November 28 and Fr
 iday\, November 29\, 2019 in observance of Thanksgiving.\n\nDelaware's dom
 estic violence hotlines are available 24/7 to assist those in need of supp
 ort.\n\nNew Castle County: 302-762-6110\nKent and Sussex Counties: 302-422
 -8058\nAbriendo Puertas (Kent and Sussex): 302-745-9874
X-WR-RELCALID:294c25a6ddf07d0535cbf86976507972
X-WR-TIMEZONE:America/New_York
BEGIN:VTIMEZONE
TZID:America/New_York
BEGIN:STANDARD
TZNAME:EST
DTSTART:20191103T020000
TZOFFSETFROM:-0400
TZOFFSETTO:-0500
RDATE:20201101T020000
END:STANDARD
BEGIN:DAYLIGHT
TZNAME:EDT
DTSTART:20190310T020000
TZOFFSETFROM:-0500
TZOFFSETTO:-0400
RDATE:20200308T020000
RDATE:20210314T020000
END:DAYLIGHT
END:VTIMEZONE
BEGIN:VEVENT
UID:dceac094-946e-4653-92c4-5614548dc44e
DTSTAMP:20260422T011147Z
DESCRIPTION:DCADV's office will be closed on Thursday\, November 28 and Fri
 day\, November 29\, 2019 in observance of Thanksgiving.\n\nDelaware's dome
 stic violence hotlines are available 24/7 to assist those in need of suppo
 rt.\n\nNew Castle County: 302-762-6110\nKent and Sussex Counties: 302-422-
 8058\nAbriendo Puertas (Kent and Sussex): 302-745-9874
DTSTART;TZID=America/New_York:20191128T000000
DTEND;TZID=America/New_York:20191129T235900
LOCATION:
SUMMARY:DCADV Office Closed
END:VEVENT
END:VCALENDAR
