BEGIN:VCALENDAR
VERSION:2.0
PRODID:-//dcadv.org//NONSGML kigkonsult.se iCalcreator 2.30.10//
CALSCALE:GREGORIAN
METHOD:PUBLISH
UID:ccc31600-8a63-494d-8168-f43cefcc8647
X-WR-CALDESC:<b>Supporting members</b> are invited to join us for our 2019 
 Annual Meeting as we look back on our work and partnerships over the past 
 year.\n\n9:00a.m. - 9:30 a.m.: Networking and refreshments\n9:30 a.m. - 10
 :30 a.m.: Program\n\n
X-WR-RELCALID:de69403eee878dc15c075e3b8926d8b0
X-WR-TIMEZONE:America/New_York
BEGIN:VTIMEZONE
TZID:America/New_York
BEGIN:STANDARD
TZNAME:EST
DTSTART:20191103T020000
TZOFFSETFROM:-0400
TZOFFSETTO:-0500
RDATE:20201101T020000
END:STANDARD
BEGIN:DAYLIGHT
TZNAME:EDT
DTSTART:20190310T020000
TZOFFSETFROM:-0500
TZOFFSETTO:-0400
RDATE:20200308T020000
RDATE:20210314T020000
END:DAYLIGHT
END:VTIMEZONE
BEGIN:VEVENT
UID:46d6a806-1ac3-4e51-a56c-30a37b88b0f6
DTSTAMP:20260421T231014Z
DESCRIPTION:<b>Supporting members</b> are invited to join us for our 2019 A
 nnual Meeting as we look back on our work and partnerships over the past y
 ear.\n\n9:00a.m. - 9:30 a.m.: Networking and refreshments\n9:30 a.m. - 10:
 30 a.m.: Program\n\n
DTSTART;TZID=America/New_York:20191203T090000
DTEND;TZID=America/New_York:20191203T103000
LOCATION:Hilton Garden Inn Dover
SUMMARY:2019 Annual Meeting
END:VEVENT
END:VCALENDAR
