BEGIN:VCALENDAR
VERSION:2.0
PRODID:-//dcadv.org//NONSGML kigkonsult.se iCalcreator 2.30.10//
CALSCALE:GREGORIAN
METHOD:PUBLISH
UID:36e3bb96-3fd8-44f5-bf51-ab0f7bf30633
X-WR-CALDESC:DCADV's office will be closed on Tuesday\, December 24 through
  Thursday\, December 26\, 2019.\n\nDelaware's domestic violence hotlines a
 re available 24/7 to assist those in need of support.\n\nNew Castle County
 : 302-762-6110\nKent and Sussex Counties: 302-422-8058\nAbriendo Puertas (
 Kent and Sussex): 302-745-9874
X-WR-RELCALID:728bdb6e01d58ac88caf1132f3dc00f8
X-WR-TIMEZONE:America/New_York
BEGIN:VTIMEZONE
TZID:America/New_York
BEGIN:STANDARD
TZNAME:EST
DTSTART:20191103T020000
TZOFFSETFROM:-0400
TZOFFSETTO:-0500
RDATE:20201101T020000
END:STANDARD
BEGIN:DAYLIGHT
TZNAME:EDT
DTSTART:20190310T020000
TZOFFSETFROM:-0500
TZOFFSETTO:-0400
RDATE:20200308T020000
RDATE:20210314T020000
END:DAYLIGHT
END:VTIMEZONE
BEGIN:VEVENT
UID:17588dc6-f564-4f7e-b9a1-1c8912e94ca8
DTSTAMP:20260422T010811Z
DESCRIPTION:DCADV's office will be closed on Tuesday\, December 24 through 
 Thursday\, December 26\, 2019.\n\nDelaware's domestic violence hotlines ar
 e available 24/7 to assist those in need of support.\n\nNew Castle County:
  302-762-6110\nKent and Sussex Counties: 302-422-8058\nAbriendo Puertas (K
 ent and Sussex): 302-745-9874
DTSTART;TZID=America/New_York:20191224T000000
DTEND;TZID=America/New_York:20191226T235900
LOCATION:
SUMMARY:DCADV Office Closed
END:VEVENT
END:VCALENDAR
