BEGIN:VCALENDAR
VERSION:2.0
PRODID:-//dcadv.org//NONSGML kigkonsult.se iCalcreator 2.30.10//
CALSCALE:GREGORIAN
METHOD:PUBLISH
UID:38c9782a-4781-4de0-bb2a-3fd572531b30
X-WR-CALDESC:<b>This event is for DCADV Board and Staff Members only.</b>
X-WR-RELCALID:e8046ac80b8926a77e5634b2693a9b9f
X-WR-TIMEZONE:America/New_York
BEGIN:VTIMEZONE
TZID:America/New_York
BEGIN:STANDARD
TZNAME:EST
DTSTART:20191103T020000
TZOFFSETFROM:-0400
TZOFFSETTO:-0500
RDATE:20201101T020000
END:STANDARD
BEGIN:DAYLIGHT
TZNAME:EDT
DTSTART:20190310T020000
TZOFFSETFROM:-0500
TZOFFSETTO:-0400
RDATE:20200308T020000
RDATE:20210314T020000
END:DAYLIGHT
END:VTIMEZONE
BEGIN:VEVENT
UID:4deee329-fa9e-4311-88ae-2ef722e5b194
DTSTAMP:20260421T211956Z
DESCRIPTION:<b>This event is for DCADV Board and Staff Members only.</b>
DTSTART;TZID=America/New_York:20200107T090000
DTEND;TZID=America/New_York:20200107T150000
LOCATION:
SUMMARY:Investing in Economic Justice: A Facilitated Discussion
END:VEVENT
END:VCALENDAR
