BEGIN:VCALENDAR
VERSION:2.0
PRODID:-//dcadv.org//NONSGML kigkonsult.se iCalcreator 2.30.10//
CALSCALE:GREGORIAN
METHOD:PUBLISH
UID:9dbe8c19-1156-4520-8559-b34fcd4005e9
X-WR-CALDESC:<b>This event is for DCADV Staff\, Board\, and invited project
  partners only. </b>
X-WR-RELCALID:a5a744bc9dc3b5a17c0bd2fe475f8b1d
X-WR-TIMEZONE:America/New_York
BEGIN:VTIMEZONE
TZID:America/New_York
BEGIN:STANDARD
TZNAME:EST
DTSTART:20191103T020000
TZOFFSETFROM:-0400
TZOFFSETTO:-0500
RDATE:20201101T020000
END:STANDARD
BEGIN:DAYLIGHT
TZNAME:EDT
DTSTART:20190310T020000
TZOFFSETFROM:-0500
TZOFFSETTO:-0400
RDATE:20200308T020000
RDATE:20210314T020000
END:DAYLIGHT
END:VTIMEZONE
BEGIN:VEVENT
UID:8e17e1b6-d2cd-46fe-b8af-d356c1e0c156
DTSTAMP:20260421T211447Z
DESCRIPTION:<b>This event is for DCADV Staff\, Board\, and invited project 
 partners only. </b>
DTSTART;TZID=America/New_York:20200108T090000
DTEND;TZID=America/New_York:20200108T150000
LOCATION:
SUMMARY:Investing in Economic Justice: Making the Connection to Domestic an
 d Sexual Violence
END:VEVENT
END:VCALENDAR
