BEGIN:VCALENDAR
VERSION:2.0
PRODID:-//dcadv.org//NONSGML kigkonsult.se iCalcreator 2.30.10//
CALSCALE:GREGORIAN
METHOD:PUBLISH
UID:9739f272-6bb8-4483-8676-76c1d881e45d
X-WR-CALDESC:DCADV's office will be closed on Monday\, January 20\, 2020 in
  observance of Martin Luther King\, Jr. Day.\n\nDelaware's domestic violen
 ce hotlines are available 24/7 to assist those in need of support.\n\nNew 
 Castle County: 302-762-6110\nKent and Sussex Counties: 302-422-8058\nAbrie
 ndo Puertas (Kent and Sussex): 302-745-9874
X-WR-RELCALID:e1adab3b44b37861c2fc43d30e411ce8
X-WR-TIMEZONE:America/New_York
BEGIN:VTIMEZONE
TZID:America/New_York
BEGIN:STANDARD
TZNAME:EST
DTSTART:20191103T020000
TZOFFSETFROM:-0400
TZOFFSETTO:-0500
RDATE:20201101T020000
END:STANDARD
BEGIN:DAYLIGHT
TZNAME:EDT
DTSTART:20190310T020000
TZOFFSETFROM:-0500
TZOFFSETTO:-0400
RDATE:20200308T020000
RDATE:20210314T020000
END:DAYLIGHT
END:VTIMEZONE
BEGIN:VEVENT
UID:5605701f-5e26-4382-be5b-8a6c6ff068ea
DTSTAMP:20260421T231257Z
DESCRIPTION:DCADV's office will be closed on Monday\, January 20\, 2020 in 
 observance of Martin Luther King\, Jr. Day.\n\nDelaware's domestic violenc
 e hotlines are available 24/7 to assist those in need of support.\n\nNew C
 astle County: 302-762-6110\nKent and Sussex Counties: 302-422-8058\nAbrien
 do Puertas (Kent and Sussex): 302-745-9874
DTSTART;TZID=America/New_York:20200120T000000
DTEND;TZID=America/New_York:20200120T235900
LOCATION:
SUMMARY:DCADV Office Closed
END:VEVENT
END:VCALENDAR
