BEGIN:VCALENDAR
VERSION:2.0
PRODID:-//dcadv.org//NONSGML kigkonsult.se iCalcreator 2.30.10//
CALSCALE:GREGORIAN
METHOD:PUBLISH
UID:cf1b3ca5-e0ab-4e0b-b64b-6dba105d74ac
X-WR-CALDESC:Safety planning is one of the most critical and essential serv
 ices we can offer to victims/survivors of domestic violence. Join DCADV an
 d the Training Subcommittee of the Delaware Domestic Violence Task Force f
 or a series of lunch-and-learn workshops to explore safety planning from a
  variety of perspectives.\n\nThe third session will focus on 'Safety Plann
 ing & Housing.' \n\nThere is no cost to attend\, but registration is requi
 red as space is very limited. If the training fills\, we will start a wait
 ing list.\nAttendees are invited to bring a brown bag lunch (lunch will no
 t be provided).
X-WR-RELCALID:07a5f31999d1af99e124b92010a62388
X-WR-TIMEZONE:America/New_York
BEGIN:VTIMEZONE
TZID:America/New_York
BEGIN:STANDARD
TZNAME:EST
DTSTART:20191103T020000
TZOFFSETFROM:-0400
TZOFFSETTO:-0500
RDATE:20201101T020000
END:STANDARD
BEGIN:DAYLIGHT
TZNAME:EDT
DTSTART:20190310T020000
TZOFFSETFROM:-0500
TZOFFSETTO:-0400
RDATE:20200308T020000
RDATE:20210314T020000
END:DAYLIGHT
END:VTIMEZONE
BEGIN:VEVENT
UID:dec18090-4daa-442f-8d84-cd1fb7657e00
DTSTAMP:20260421T231303Z
DESCRIPTION:Safety planning is one of the most critical and essential servi
 ces we can offer to victims/survivors of domestic violence. Join DCADV and
  the Training Subcommittee of the Delaware Domestic Violence Task Force fo
 r a series of lunch-and-learn workshops to explore safety planning from a 
 variety of perspectives.\n\nThe third session will focus on 'Safety Planni
 ng & Housing.' \n\nThere is no cost to attend\, but registration is requir
 ed as space is very limited. If the training fills\, we will start a waiti
 ng list.\nAttendees are invited to bring a brown bag lunch (lunch will not
  be provided).
DTSTART;TZID=America/New_York:20200123T113000
DTEND;TZID=America/New_York:20200123T130000
LOCATION:Appoquinimink State Service Center\, Middletown\, DE
SUMMARY:Safety Planning and Housing
END:VEVENT
END:VCALENDAR
