BEGIN:VCALENDAR
VERSION:2.0
PRODID:-//dcadv.org//NONSGML kigkonsult.se iCalcreator 2.30.10//
CALSCALE:GREGORIAN
METHOD:PUBLISH
UID:bf3677f4-f964-45a8-9025-7bd7f409e59c
X-WR-CALDESC:Recently victorious in both love and war\, General Othello dis
 covers that the same people who have lauded his career might not approve o
 f his marriage to a white senator’s daughter. Believing he can win over th
 e heart of his adopted homeland through dutiful service and the true love 
 of his wife Desdemona\, they depart for the escalating conflict in Cyprus.
  Unfortunately\, this is just the opportunity the slighted Iago needs to d
 estroy them all. \n \nShakespeare’s sweeping tragedy of passion and poison
  finds new light in this minimal\, fast-paced production as one of the Bar
 d's greatest romances crosses paths with one of his greatest villains. \n
 \nNew Light Theatre's production of Othello partners with the Delaware Coa
 lition Against Domestic Violence\, a local nonprofit working to stop domes
 tic violence\, promote equality in relationships\, and alter the social co
 nditions that allow violence and abuse to occur. \n\nTickets are now on sa
 le!  Visit <a href='https://www.newlighttheatre.com/upcoming'>www.newlight
 theatre.com</a> for more information.
X-WR-RELCALID:d5c2431d0999cfa53522828def4d8eac
X-WR-TIMEZONE:America/New_York
BEGIN:VTIMEZONE
TZID:America/New_York
BEGIN:STANDARD
TZNAME:EST
DTSTART:20191103T020000
TZOFFSETFROM:-0400
TZOFFSETTO:-0500
RDATE:20201101T020000
END:STANDARD
BEGIN:DAYLIGHT
TZNAME:EDT
DTSTART:20190310T020000
TZOFFSETFROM:-0500
TZOFFSETTO:-0400
RDATE:20200308T020000
RDATE:20210314T020000
END:DAYLIGHT
END:VTIMEZONE
BEGIN:VEVENT
UID:61a9b5dd-d006-458f-81f2-379cd3128225
DTSTAMP:20260421T211513Z
DESCRIPTION:Recently victorious in both love and war\, General Othello disc
 overs that the same people who have lauded his career might not approve of
  his marriage to a white senator’s daughter. Believing he can win over the
  heart of his adopted homeland through dutiful service and the true love o
 f his wife Desdemona\, they depart for the escalating conflict in Cyprus. 
 Unfortunately\, this is just the opportunity the slighted Iago needs to de
 stroy them all. \n \nShakespeare’s sweeping tragedy of passion and poison 
 finds new light in this minimal\, fast-paced production as one of the Bard
 's greatest romances crosses paths with one of his greatest villains. \n\n
 New Light Theatre's production of Othello partners with the Delaware Coali
 tion Against Domestic Violence\, a local nonprofit working to stop domesti
 c violence\, promote equality in relationships\, and alter the social cond
 itions that allow violence and abuse to occur. \n\nTickets are now on sale
 !  Visit <a href='https://www.newlighttheatre.com/upcoming'>www.newlightth
 eatre.com</a> for more information.
DTSTART;TZID=America/New_York:20200130T193000
DTEND;TZID=America/New_York:20200130T213000
LOCATION:Delaware Historical Society\, 505 N. Market St.\, Wilmington
SUMMARY:New Light Theater Production: 'Othello'
END:VEVENT
END:VCALENDAR
