BEGIN:VCALENDAR
VERSION:2.0
PRODID:-//dcadv.org//NONSGML kigkonsult.se iCalcreator 2.30.10//
CALSCALE:GREGORIAN
METHOD:PUBLISH
UID:5843857d-84fb-4258-925d-ff77497e2025
X-WR-CALDESC:
X-WR-RELCALID:6e854eb28374fe54dbe8947550e1e173
X-WR-TIMEZONE:America/New_York
BEGIN:VTIMEZONE
TZID:America/New_York
BEGIN:STANDARD
TZNAME:EST
DTSTART:20191103T020000
TZOFFSETFROM:-0400
TZOFFSETTO:-0500
RDATE:20201101T020000
END:STANDARD
BEGIN:DAYLIGHT
TZNAME:EDT
DTSTART:20190310T020000
TZOFFSETFROM:-0500
TZOFFSETTO:-0400
RDATE:20200308T020000
RDATE:20210314T020000
END:DAYLIGHT
END:VTIMEZONE
BEGIN:VEVENT
UID:42a1fab1-f970-40af-9296-e0577e40952c
DTSTAMP:20260421T193604Z
DESCRIPTION:
DTSTART;TZID=America/New_York:20200201T000000
DTEND;TZID=America/New_York:20200201T235900
LOCATION:
SUMMARY:February is Teen Dating Violence Awareness & Prevention Month
END:VEVENT
END:VCALENDAR
