BEGIN:VCALENDAR
VERSION:2.0
PRODID:-//dcadv.org//NONSGML kigkonsult.se iCalcreator 2.30.10//
CALSCALE:GREGORIAN
METHOD:PUBLISH
UID:c9e70873-798d-4ea6-a760-9fc890b6efa2
X-WR-CALDESC:Safety planning is one of the most critical and essential serv
 ices we can offer to victims/survivors of domestic violence. Join DCADV an
 d the Training Subcommittee of the Delaware Domestic Violence Task Force f
 or a series of lunch-and-learn workshops to explore safety planning from a
  variety of perspectives.\n\nThe fourth session will focus on 'Safety Plan
 ning & Technology.' \n\nThere is no cost to attend\, but registration is r
 equired as space is very limited. If the training fills\, we will start a 
 waiting list.\nAttendees are invited to bring a brown bag lunch (lunch wil
 l not be provided).
X-WR-RELCALID:9820f71dfcf11b47bbd75c58746065dd
X-WR-TIMEZONE:America/New_York
BEGIN:VTIMEZONE
TZID:America/New_York
BEGIN:STANDARD
TZNAME:EST
DTSTART:20191103T020000
TZOFFSETFROM:-0400
TZOFFSETTO:-0500
RDATE:20201101T020000
END:STANDARD
BEGIN:DAYLIGHT
TZNAME:EDT
DTSTART:20190310T020000
TZOFFSETFROM:-0500
TZOFFSETTO:-0400
RDATE:20200308T020000
RDATE:20210314T020000
END:DAYLIGHT
END:VTIMEZONE
BEGIN:VEVENT
UID:15935559-bdfb-4769-9857-9ff7f701fb45
DTSTAMP:20260421T193718Z
DESCRIPTION:Safety planning is one of the most critical and essential servi
 ces we can offer to victims/survivors of domestic violence. Join DCADV and
  the Training Subcommittee of the Delaware Domestic Violence Task Force fo
 r a series of lunch-and-learn workshops to explore safety planning from a 
 variety of perspectives.\n\nThe fourth session will focus on 'Safety Plann
 ing & Technology.' \n\nThere is no cost to attend\, but registration is re
 quired as space is very limited. If the training fills\, we will start a w
 aiting list.\nAttendees are invited to bring a brown bag lunch (lunch will
  not be provided).
DTSTART;TZID=America/New_York:20200204T103000
DTEND;TZID=America/New_York:20200204T123000
LOCATION:Route 9 Library & Innovation Center\, New Castle\, DE
SUMMARY:Safety Planning and Technology
END:VEVENT
END:VCALENDAR
